FILENAME: O4810837.SES.1114552.tif
QUADRANGLE_NAME: COBURG
QUADRANT: SE
WEST_LONGITUDE: -108 26 15.00000
EAST_LONGITUDE: -108 22 30.00000
NORTH_LATITUDE: 48 26 15.00000
SOUTH_LATITUDE: 48 22 30.00000
PRODUCTION_DATE: 2000 10 26
RASTER_ORDER: LEFT_RIGHT/TOP_BOTTOM
BAND_ORGANIZATION: SINGLE FILE
BAND_CONTENT: BLACK&WHITE
BAND_CONTENT: UNDEFINED
BAND_CONTENT: UNDEFINED
BITS_PER_PIXEL: 8
SAMPLES_AND_LINES: 5514 7708
HORIZONTAL_DATUM: NAD83
HORIZONTAL_COORDINATE_SYSTEM: UTM
COORDINATE_ZONE: 12
HORIZONTAL_UNITS: METERS
HORIZONTAL_RESOLUTION: 1.00000
SECONDARY_HORIZONTAL_DATUM: NAD27
XY_ORIGIN: 689169.00000 5368558.00000
SECONDARY_XY_ORIGIN: 689226.62700 5368341.13000
NATION: US
NATION: "SCIENCE
STATE: MT
NW_QUAD_CORNER_XY: 689521.70800 5368100.46800
NE_QUAD_CORNER_XY: 694143.80800 5368257.13500
SE_QUAD_CORNERY_XY: 694381.97900 5361310.88600
SW_QUAD_CORNER_XY: 689754.20200 5361154.17800
SECONDARY_NW_QUAD_XY: 689527.72700 5367881.60400
SECONDARY_NE_QUAD_XY: 694149.97400 5368038.27700
SECONDARY_SE_QUAD_XY: 694388.14400 5361092.03700
SECONDARY_SW_QUAD_XY: 689760.22000 5360935.32400
RMSE_XY: 0.90000
IMAGE_SOURCE: BLACK AND WHITE FILM
SOURCE_IMAGE_ID: NAPP 9144 047
SOURCE_IMAGE_DATE: 1996 08 25
SOURCE_DEM_DATE: 1963 00 00
AGENCY: WESTERN MAPPING CENTER (WMC)
PRODUCER: UNDEFINED
PRODUCTION_SYSTEM: GIS/MAGIC
COMPRESSION: UNDEFINED
STANDARD_VERSION: 1996 12
METADATA_DATE: 2000 11 14
DATA_FILE_SIZE: 42507426
BYTE_COUNT: 5514
