FILENAME: O4810838.NES.1114598.tif
QUADRANGLE_NAME: DODSON DAM
QUADRANT: NE
WEST_LONGITUDE: -108 18 45.00000
EAST_LONGITUDE: -108 15 0.00000
NORTH_LATITUDE: 48 30 0.00000
SOUTH_LATITUDE: 48 26 15.00000
PRODUCTION_DATE: 2000 10 24
RASTER_ORDER: LEFT_RIGHT/TOP_BOTTOM
BAND_ORGANIZATION: SINGLE FILE
BAND_CONTENT: BLACK&WHITE
BAND_CONTENT: UNDEFINED
BAND_CONTENT: UNDEFINED
BITS_PER_PIXEL: 8
SAMPLES_AND_LINES: 5520 7716
HORIZONTAL_DATUM: NAD83
HORIZONTAL_COORDINATE_SYSTEM: UTM
COORDINATE_ZONE: 12
HORIZONTAL_UNITS: METERS
HORIZONTAL_RESOLUTION: 1.00000
SECONDARY_HORIZONTAL_DATUM: NAD27
XY_ORIGIN: 698169.00000 5375829.00000
SECONDARY_XY_ORIGIN: 698226.34900 5375612.11300
NATION: US
NATION: "SCIENCE
STATE: MT
NW_QUAD_CORNER_XY: 698521.79500 5375363.85000
NE_QUAD_CORNER_XY: 703138.15500 5375528.03300
SE_QUAD_CORNERY_XY: 703387.92500 5368581.81000
SW_QUAD_CORNER_XY: 698765.88100 5368417.58300
SECONDARY_NW_QUAD_XY: 698528.10700 5375144.98800
SECONDARY_NE_QUAD_XY: 703144.61500 5375309.17700
SECONDARY_SE_QUAD_XY: 703394.38500 5368362.96200
SECONDARY_SW_QUAD_XY: 698772.19300 5368198.72900
RMSE_XY: 0.80000
IMAGE_SOURCE: BLACK AND WHITE FILM
SOURCE_IMAGE_ID: NAPP 9143 237
SOURCE_IMAGE_DATE: 1996 08 24
SOURCE_IMAGE_ID: NAPP 9143 236
SOURCE_IMAGE_DATE: 1996 08 24
SOURCE_IMAGE_ID: NAPP 9143 238
SOURCE_IMAGE_DATE: 1996 08 24
SOURCE_DEM_DATE: 1964 00 00
AGENCY: WESTERN MAPPING CENTER (WMC)
PRODUCER: UNDEFINED
PRODUCTION_SYSTEM: GIS/MAGIC
COMPRESSION: UNDEFINED
STANDARD_VERSION: 1996 12
METADATA_DATE: 2000 11 14
DATA_FILE_SIZE: 42597840
BYTE_COUNT: 5520
