FILENAME: O4810839.SWS.1116463.tif
QUADRANGLE_NAME: DODSON
QUADRANT: SW
WEST_LONGITUDE: -108 15 0.00000
EAST_LONGITUDE: -108 11 15.00000
NORTH_LATITUDE: 48 26 15.00000
SOUTH_LATITUDE: 48 22 30.00000
PRODUCTION_DATE: 2000 10 25
RASTER_ORDER: LEFT_RIGHT/TOP_BOTTOM
BAND_ORGANIZATION: SINGLE FILE
BAND_CONTENT: BLACK&WHITE
BAND_CONTENT: UNDEFINED
BAND_CONTENT: UNDEFINED
BITS_PER_PIXEL: 8
SAMPLES_AND_LINES: 5531 7719
HORIZONTAL_DATUM: NAD83
HORIZONTAL_COORDINATE_SYSTEM: UTM
COORDINATE_ZONE: 12
HORIZONTAL_UNITS: METERS
HORIZONTAL_RESOLUTION: 1.00000
SECONDARY_HORIZONTAL_DATUM: NAD27
XY_ORIGIN: 703036.00000 5369050.00000
SECONDARY_XY_ORIGIN: 703093.34700 5368833.18000
NATION: US
NATION: "SCIENCE
STATE: MT
NW_QUAD_CORNER_XY: 703387.92500 5368581.81000
NE_QUAD_CORNER_XY: 708009.94100 5368749.81700
SE_QUAD_CORNERY_XY: 708265.14600 5361803.69500
SW_QUAD_CORNER_XY: 703637.45200 5361635.64400
SECONDARY_NW_QUAD_XY: 703394.38500 5368362.96200
SECONDARY_NE_QUAD_XY: 708016.54700 5368530.97400
SECONDARY_SE_QUAD_XY: 708271.75100 5361584.86200
SECONDARY_SW_QUAD_XY: 703643.91100 5361416.80600
RMSE_XY: 1.40000
IMAGE_SOURCE: BLACK AND WHITE FILM
SOURCE_IMAGE_ID: NAPP 9143 156
SOURCE_IMAGE_DATE: 1996 08 24
SOURCE_DEM_DATE: 1993 00 00
AGENCY: WESTERN MAPPING CENTER (WMC)
PRODUCER: UNDEFINED
PRODUCTION_SYSTEM: GIS/MAGIC
COMPRESSION: UNDEFINED
STANDARD_VERSION: 1996 12
METADATA_DATE: 2000 11 14
DATA_FILE_SIZE: 42699320
BYTE_COUNT: 5531
