FILENAME: O4810840.SWS.1116536.tif
QUADRANGLE_NAME: DODSON NE
QUADRANT: SW
WEST_LONGITUDE: -108 7 30.00000
EAST_LONGITUDE: -108 3 45.00000
NORTH_LATITUDE: 48 26 15.00000
SOUTH_LATITUDE: 48 22 30.00000
PRODUCTION_DATE: 2000 10 26
RASTER_ORDER: LEFT_RIGHT/TOP_BOTTOM
BAND_ORGANIZATION: SINGLE FILE
BAND_CONTENT: BLACK&WHITE
BAND_CONTENT: UNDEFINED
BAND_CONTENT: UNDEFINED
BITS_PER_PIXEL: 8
SAMPLES_AND_LINES: 5542 7727
HORIZONTAL_DATUM: NAD83
HORIZONTAL_COORDINATE_SYSTEM: UTM
COORDINATE_ZONE: 12
HORIZONTAL_UNITS: METERS
HORIZONTAL_RESOLUTION: 1.00000
SECONDARY_HORIZONTAL_DATUM: NAD27
XY_ORIGIN: 712280.00000 5369398.00000
SECONDARY_XY_ORIGIN: 712337.19200 5369181.25200
NATION: US
NATION: "SCIENCE
STATE: MT
NW_QUAD_CORNER_XY: 712631.92600 5368921.60500
NE_QUAD_CORNER_XY: 717253.88200 5369097.17300
SE_QUAD_CORNERY_XY: 717520.44500 5362151.14200
SW_QUAD_CORNER_XY: 712892.81000 5361975.52800
SECONDARY_NW_QUAD_XY: 712638.67900 5368702.76800
SECONDARY_NE_QUAD_XY: 717260.78200 5368878.34200
SECONDARY_SE_QUAD_XY: 717527.34500 5361932.32000
SECONDARY_SW_QUAD_XY: 712899.56300 5361756.70000
RMSE_XY: 0.90000
IMAGE_SOURCE: BLACK AND WHITE FILM
SOURCE_IMAGE_ID: NAPP 9142 172
SOURCE_IMAGE_DATE: 1996 08 24
SOURCE_DEM_DATE: 1963 00 00
AGENCY: WESTERN MAPPING CENTER (WMC)
PRODUCER: UNDEFINED
PRODUCTION_SYSTEM: GIS/MAGIC
COMPRESSION: UNDEFINED
STANDARD_VERSION: 1996 12
METADATA_DATE: 2000 11 14
DATA_FILE_SIZE: 42828576
BYTE_COUNT: 5542
