FILENAME: O4810840.SES.1116535.tif
QUADRANGLE_NAME: DODSON NE
QUADRANT: SE
WEST_LONGITUDE: -108 3 45.00000
EAST_LONGITUDE: -108 0 0.00000
NORTH_LATITUDE: 48 26 15.00000
SOUTH_LATITUDE: 48 22 30.00000
PRODUCTION_DATE: 2000 10 27
RASTER_ORDER: LEFT_RIGHT/TOP_BOTTOM
BAND_ORGANIZATION: SINGLE FILE
BAND_CONTENT: BLACK&WHITE
BAND_CONTENT: UNDEFINED
BAND_CONTENT: UNDEFINED
BITS_PER_PIXEL: 8
SAMPLES_AND_LINES: 5548 7731
HORIZONTAL_DATUM: NAD83
HORIZONTAL_COORDINATE_SYSTEM: UTM
COORDINATE_ZONE: 12
HORIZONTAL_UNITS: METERS
HORIZONTAL_RESOLUTION: 1.00000
SECONDARY_HORIZONTAL_DATUM: NAD27
XY_ORIGIN: 716902.00000 5369577.00000
SECONDARY_XY_ORIGIN: 716959.11400 5369360.28700
NATION: US
NATION: "SCIENCE
STATE: MT
NW_QUAD_CORNER_XY: 717253.88200 5369097.17300
NE_QUAD_CORNER_XY: 721875.80600 5369276.52300
SE_QUAD_CORNERY_XY: 722148.05000 5362330.53800
SW_QUAD_CORNER_XY: 717520.44500 5362151.14200
SECONDARY_NW_QUAD_XY: 717260.78200 5368878.34200
SECONDARY_NE_QUAD_XY: 721882.85300 5369057.69700
SECONDARY_SE_QUAD_XY: 722155.09600 5362111.72200
SECONDARY_SW_QUAD_XY: 717527.34500 5361932.32000
RMSE_XY: 1.70000
IMAGE_SOURCE: BLACK AND WHITE FILM
SOURCE_IMAGE_ID: NAPP 9142 131
SOURCE_IMAGE_DATE: 1996 08 24
SOURCE_DEM_DATE: 1963 00 00
AGENCY: WESTERN MAPPING CENTER (WMC)
PRODUCER: UNDEFINED
PRODUCTION_SYSTEM: GIS/MAGIC
COMPRESSION: UNDEFINED
STANDARD_VERSION: 1996 12
METADATA_DATE: 2000 11 14
DATA_FILE_SIZE: 42897136
BYTE_COUNT: 5548
