FILENAME: O4810841.SWS.1115763.tif
QUADRANGLE_NAME: NEWHOUSE RESERVOIR
QUADRANT: SW
WEST_LONGITUDE: -109 0 0.00000
EAST_LONGITUDE: -108 56 15.00000
NORTH_LATITUDE: 48 18 45.00000
SOUTH_LATITUDE: 48 15 0.00000
PRODUCTION_DATE: 2000 10 26
RASTER_ORDER: LEFT_RIGHT/TOP_BOTTOM
BAND_ORGANIZATION: SINGLE FILE
BAND_CONTENT: BLACK&WHITE
BAND_CONTENT: UNDEFINED
BAND_CONTENT: UNDEFINED
BITS_PER_PIXEL: 8
SAMPLES_AND_LINES: 5477 7675
HORIZONTAL_DATUM: NAD83
HORIZONTAL_COORDINATE_SYSTEM: UTM
COORDINATE_ZONE: 12
HORIZONTAL_UNITS: METERS
HORIZONTAL_RESOLUTION: 1.00000
SECONDARY_HORIZONTAL_DATUM: NAD27
XY_ORIGIN: 647929.00000 5353391.00000
SECONDARY_XY_ORIGIN: 647987.23700 5353174.23300
NATION: US
NATION: "SCIENCE
STATE: MT
NW_QUAD_CORNER_XY: 648284.33500 5352967.33400
NE_QUAD_CORNER_XY: 652917.99500 5353090.06200
SE_QUAD_CORNERY_XY: 653104.72200 5346143.61500
SW_QUAD_CORNER_XY: 648465.40000 5346020.85700
SECONDARY_NW_QUAD_XY: 648289.03200 5352748.45100
SECONDARY_NE_QUAD_XY: 652922.83900 5352871.18300
SECONDARY_SE_QUAD_XY: 653109.56500 5345924.74700
SECONDARY_SW_QUAD_XY: 648470.09600 5345801.98500
RMSE_XY: 1.10000
IMAGE_SOURCE: BLACK AND WHITE FILM
SOURCE_IMAGE_ID: NAPP 9147 190
SOURCE_IMAGE_DATE: 1996 08 24
SOURCE_DEM_DATE: 1970 00 00
AGENCY: WESTERN MAPPING CENTER (WMC)
PRODUCER: UNDEFINED
PRODUCTION_SYSTEM: GIS/MAGIC
COMPRESSION: UNDEFINED
STANDARD_VERSION: 1996 12
METADATA_DATE: 2000 11 10
DATA_FILE_SIZE: 42041452
BYTE_COUNT: 5477
