FILENAME: O4810842.NWS.1112751.tif
QUADRANGLE_NAME: FORT BELKNAP
AGENCY SE
QUADRANT: NW
WEST_LONGITUDE: -108 52 30.00000
EAST_LONGITUDE: -108 48 45.00000
NORTH_LATITUDE: 48 22 30.00000
SOUTH_LATITUDE: 48 18 45.00000
PRODUCTION_DATE: 2000 10 26
RASTER_ORDER: LEFT_RIGHT/TOP_BOTTOM
BAND_ORGANIZATION: SINGLE FILE
BAND_CONTENT: BLACK&WHITE
BAND_CONTENT: UNDEFINED
BAND_CONTENT: UNDEFINED
BITS_PER_PIXEL: 8
SAMPLES_AND_LINES: 5483 7682
HORIZONTAL_DATUM: NAD83
HORIZONTAL_COORDINATE_SYSTEM: UTM
COORDINATE_ZONE: 12
HORIZONTAL_UNITS: METERS
HORIZONTAL_RESOLUTION: 1.00000
SECONDARY_HORIZONTAL_DATUM: NAD27
XY_ORIGIN: 657004.00000 5360594.00000
SECONDARY_XY_ORIGIN: 657062.10800 5360377.13400
NATION: US
NATION: "SCIENCE
STATE: MT
NW_QUAD_CORNER_XY: 657359.05600 5360163.04900
NE_QUAD_CORNER_XY: 661987.00500 5360293.30200
SE_QUAD_CORNERY_XY: 662185.25200 5353346.85400
SW_QUAD_CORNER_XY: 657551.63400 5353216.56800
SECONDARY_NW_QUAD_XY: 657364.04700 5359944.16400
SECONDARY_NE_QUAD_XY: 661992.14300 5360074.42100
SECONDARY_SE_QUAD_XY: 662190.38900 5353127.98300
SECONDARY_SW_QUAD_XY: 657556.62500 5352997.69300
RMSE_XY: 1.80000
IMAGE_SOURCE: BLACK AND WHITE FILM
SOURCE_IMAGE_ID: NAPP 9157 088
SOURCE_IMAGE_DATE: 1997 09 05
SOURCE_DEM_DATE: 1970 00 00
AGENCY: WESTERN MAPPING CENTER (WMC)
PRODUCER: UNDEFINED
PRODUCTION_SYSTEM: GIS/MAGIC
COMPRESSION: UNDEFINED
STANDARD_VERSION: 1996 12
METADATA_DATE: 2000 11 13
DATA_FILE_SIZE: 42125889
BYTE_COUNT: 5483
