FILENAME: O4810846.SES.1114604.tif
QUADRANGLE_NAME: COBURG SE
QUADRANT: SE
WEST_LONGITUDE: -108 18 45.00000
EAST_LONGITUDE: -108 15 0.00000
NORTH_LATITUDE: 48 18 45.00000
SOUTH_LATITUDE: 48 15 0.00000
PRODUCTION_DATE: 2000 10 24
RASTER_ORDER: LEFT_RIGHT/TOP_BOTTOM
BAND_ORGANIZATION: SINGLE FILE
BAND_CONTENT: BLACK&WHITE
BAND_CONTENT: UNDEFINED
BAND_CONTENT: UNDEFINED
BITS_PER_PIXEL: 8
SAMPLES_AND_LINES: 5536 7716
HORIZONTAL_DATUM: NAD83
HORIZONTAL_COORDINATE_SYSTEM: UTM
COORDINATE_ZONE: 12
HORIZONTAL_UNITS: METERS
HORIZONTAL_RESOLUTION: 1.00000
SECONDARY_HORIZONTAL_DATUM: NAD27
XY_ORIGIN: 698901.00000 5354990.00000
SECONDARY_XY_ORIGIN: 698958.63100 5354773.27300
NATION: US
NATION: "SCIENCE
STATE: MT
NW_QUAD_CORNER_XY: 699253.34000 5354525.22600
NE_QUAD_CORNER_XY: 703886.73400 5354689.53800
SE_QUAD_CORNERY_XY: 704135.77300 5347743.49000
SW_QUAD_CORNER_XY: 699496.71100 5347579.13700
SECONDARY_NW_QUAD_XY: 699259.65100 5354306.39300
SECONDARY_NE_QUAD_XY: 703893.19300 5354470.70900
SECONDARY_SE_QUAD_XY: 704142.23100 5347524.67200
SECONDARY_SW_QUAD_XY: 699503.02200 5347360.31400
RMSE_XY: 0.70000
IMAGE_SOURCE: BLACK AND WHITE FILM
SOURCE_IMAGE_ID: NAPP 9143 231
SOURCE_IMAGE_DATE: 1996 08 24
SOURCE_DEM_DATE: 1963 00 00
AGENCY: WESTERN MAPPING CENTER (WMC)
PRODUCER: UNDEFINED
PRODUCTION_SYSTEM: GIS/MAGIC
COMPRESSION: UNDEFINED
STANDARD_VERSION: 1996 12
METADATA_DATE: 2000 11 14
DATA_FILE_SIZE: 42721312
BYTE_COUNT: 5536
