FILENAME: O4810846.NES.1114602.tif
QUADRANGLE_NAME: COBURG SE
QUADRANT: NE
WEST_LONGITUDE: -108 18 45.00000
EAST_LONGITUDE: -108 15 0.00000
NORTH_LATITUDE: 48 22 30.00000
SOUTH_LATITUDE: 48 18 45.00000
PRODUCTION_DATE: 2000 10 24
RASTER_ORDER: LEFT_RIGHT/TOP_BOTTOM
BAND_ORGANIZATION: SINGLE FILE
BAND_CONTENT: BLACK&WHITE
BAND_CONTENT: UNDEFINED
BAND_CONTENT: UNDEFINED
BITS_PER_PIXEL: 8
SAMPLES_AND_LINES: 5531 7715
HORIZONTAL_DATUM: NAD83
HORIZONTAL_COORDINATE_SYSTEM: UTM
COORDINATE_ZONE: 12
HORIZONTAL_UNITS: METERS
HORIZONTAL_RESOLUTION: 1.00000
SECONDARY_HORIZONTAL_DATUM: NAD27
XY_ORIGIN: 698657.00000 5361936.00000
SECONDARY_XY_ORIGIN: 698714.53700 5361719.21900
NATION: US
NATION: "SCIENCE
STATE: MT
NW_QUAD_CORNER_XY: 699009.72900 5361471.37500
NE_QUAD_CORNER_XY: 703637.45200 5361635.64400
SE_QUAD_CORNERY_XY: 703886.73400 5354689.53800
SW_QUAD_CORNER_XY: 699253.34000 5354525.22600
SECONDARY_NW_QUAD_XY: 699016.04100 5361252.53100
SECONDARY_NE_QUAD_XY: 703643.91100 5361416.80600
SECONDARY_SE_QUAD_XY: 703893.19300 5354470.70900
SECONDARY_SW_QUAD_XY: 699259.65100 5354306.39300
RMSE_XY: 0.90000
IMAGE_SOURCE: BLACK AND WHITE FILM
SOURCE_IMAGE_ID: NAPP 9143 233
SOURCE_IMAGE_DATE: 1996 08 24
SOURCE_DEM_DATE: 1963 00 00
AGENCY: WESTERN MAPPING CENTER (WMC)
PRODUCER: UNDEFINED
PRODUCTION_SYSTEM: GIS/MAGIC
COMPRESSION: UNDEFINED
STANDARD_VERSION: 1996 12
METADATA_DATE: 2000 11 14
DATA_FILE_SIZE: 42677196
BYTE_COUNT: 5531
