FILENAME: O4810847.SWS.1116481.tif
QUADRANGLE_NAME: COW CREEK
QUADRANT: SW
WEST_LONGITUDE: -108 15 0.00000
EAST_LONGITUDE: -108 11 15.00000
NORTH_LATITUDE: 48 18 45.00000
SOUTH_LATITUDE: 48 15 0.00000
PRODUCTION_DATE: 2000 10 25
RASTER_ORDER: LEFT_RIGHT/TOP_BOTTOM
BAND_ORGANIZATION: SINGLE FILE
BAND_CONTENT: BLACK&WHITE
BAND_CONTENT: UNDEFINED
BAND_CONTENT: UNDEFINED
BITS_PER_PIXEL: 8
SAMPLES_AND_LINES: 5542 7719
HORIZONTAL_DATUM: NAD83
HORIZONTAL_COORDINATE_SYSTEM: UTM
COORDINATE_ZONE: 12
HORIZONTAL_UNITS: METERS
HORIZONTAL_RESOLUTION: 1.00000
SECONDARY_HORIZONTAL_DATUM: NAD27
XY_ORIGIN: 703534.00000 5355158.00000
SECONDARY_XY_ORIGIN: 703591.53300 5354941.28400
NATION: US
NATION: "SCIENCE
STATE: MT
NW_QUAD_CORNER_XY: 703886.73400 5354689.53800
NE_QUAD_CORNER_XY: 708520.10100 5354857.63200
SE_QUAD_CORNERY_XY: 708774.80700 5347911.62500
SW_QUAD_CORNER_XY: 704135.77300 5347743.49000
SECONDARY_NW_QUAD_XY: 703893.19300 5354470.70900
SECONDARY_NE_QUAD_XY: 708526.70700 5354638.80800
SECONDARY_SE_QUAD_XY: 708781.41200 5347692.81300
SECONDARY_SW_QUAD_XY: 704142.23100 5347524.67200
RMSE_XY: 0.70000
IMAGE_SOURCE: BLACK AND WHITE FILM
SOURCE_IMAGE_ID: NAPP 9143 160
SOURCE_IMAGE_DATE: 1996 08 24
SOURCE_IMAGE_ID: NAPP 9143 231
SOURCE_IMAGE_DATE: 1996 08 24
SOURCE_DEM_DATE: 1963 00 00
AGENCY: WESTERN MAPPING CENTER (WMC)
PRODUCER: UNDEFINED
PRODUCTION_SYSTEM: GIS/MAGIC
COMPRESSION: UNDEFINED
STANDARD_VERSION: 1996 12
METADATA_DATE: 2000 11 14
DATA_FILE_SIZE: 42784240
BYTE_COUNT: 5542
