FILENAME: O4810847.NWS.1116478.tif
QUADRANGLE_NAME: COW CREEK
QUADRANT: NW
WEST_LONGITUDE: -108 15 0.00000
EAST_LONGITUDE: -108 11 15.00000
NORTH_LATITUDE: 48 22 30.00000
SOUTH_LATITUDE: 48 18 45.00000
PRODUCTION_DATE: 2000 10 25
RASTER_ORDER: LEFT_RIGHT/TOP_BOTTOM
BAND_ORGANIZATION: SINGLE FILE
BAND_CONTENT: BLACK&WHITE
BAND_CONTENT: UNDEFINED
BAND_CONTENT: UNDEFINED
BITS_PER_PIXEL: 8
SAMPLES_AND_LINES: 5537 7719
HORIZONTAL_DATUM: NAD83
HORIZONTAL_COORDINATE_SYSTEM: UTM
COORDINATE_ZONE: 12
HORIZONTAL_UNITS: METERS
HORIZONTAL_RESOLUTION: 1.00000
SECONDARY_HORIZONTAL_DATUM: NAD27
XY_ORIGIN: 703285.00000 5362104.00000
SECONDARY_XY_ORIGIN: 703342.44000 5361887.23200
NATION: US
NATION: "SCIENCE
STATE: MT
NW_QUAD_CORNER_XY: 703637.45200 5361635.64400
NE_QUAD_CORNER_XY: 708265.14600 5361803.69500
SE_QUAD_CORNERY_XY: 708520.10100 5354857.63200
SW_QUAD_CORNER_XY: 703886.73400 5354689.53800
SECONDARY_NW_QUAD_XY: 703643.91100 5361416.80600
SECONDARY_NE_QUAD_XY: 708271.75100 5361584.86200
SECONDARY_SE_QUAD_XY: 708526.70700 5354638.80800
SECONDARY_SW_QUAD_XY: 703893.19300 5354470.70900
RMSE_XY: 1.60000
IMAGE_SOURCE: BLACK AND WHITE FILM
SOURCE_IMAGE_ID: NAPP 9143 158
SOURCE_IMAGE_DATE: 1996 08 24
SOURCE_DEM_DATE: 1963 00 00
AGENCY: WESTERN MAPPING CENTER (WMC)
PRODUCER: UNDEFINED
PRODUCTION_SYSTEM: GIS/MAGIC
COMPRESSION: UNDEFINED
STANDARD_VERSION: 1996 12
METADATA_DATE: 2000 11 14
DATA_FILE_SIZE: 42745640
BYTE_COUNT: 5537
