FILENAME: O4810849.SWS.1115767.tif
QUADRANGLE_NAME: PUTNAM LAKE
QUADRANT: SW
WEST_LONGITUDE: -109 0 0.00000
EAST_LONGITUDE: -108 56 15.00000
NORTH_LATITUDE: 48 11 15.00000
SOUTH_LATITUDE: 48 7 30.00000
PRODUCTION_DATE: 2000 10 25
RASTER_ORDER: LEFT_RIGHT/TOP_BOTTOM
BAND_ORGANIZATION: SINGLE FILE
BAND_CONTENT: BLACK&WHITE
BAND_CONTENT: UNDEFINED
BAND_CONTENT: UNDEFINED
BITS_PER_PIXEL: 8
SAMPLES_AND_LINES: 5488 7675
HORIZONTAL_DATUM: NAD83
HORIZONTAL_COORDINATE_SYSTEM: UTM
COORDINATE_ZONE: 12
HORIZONTAL_UNITS: METERS
HORIZONTAL_RESOLUTION: 1.00000
SECONDARY_HORIZONTAL_DATUM: NAD27
XY_ORIGIN: 648291.00000 5339498.00000
SECONDARY_XY_ORIGIN: 648349.42000 5339281.51600
NATION: US
NATION: "SCIENCE
STATE: MT
NW_QUAD_CORNER_XY: 648646.28600 5339074.44600
NE_QUAD_CORNER_XY: 653291.26500 5339197.23400
SE_QUAD_CORNERY_XY: 653477.62400 5332250.91900
SW_QUAD_CORNER_XY: 648826.99400 5332128.10200
SECONDARY_NW_QUAD_XY: 648650.98200 5338855.58600
SECONDARY_NE_QUAD_XY: 653296.10800 5338978.37700
SECONDARY_SE_QUAD_XY: 653482.46700 5332032.07500
SECONDARY_SW_QUAD_XY: 648831.69000 5331909.25400
RMSE_XY: 1.10000
IMAGE_SOURCE: BLACK AND WHITE FILM
SOURCE_IMAGE_ID: NAPP 9147 194
SOURCE_IMAGE_DATE: 1996 08 24
SOURCE_DEM_DATE: 1970 00 00
AGENCY: WESTERN MAPPING CENTER (WMC)
PRODUCER: UNDEFINED
PRODUCTION_SYSTEM: GIS/MAGIC
COMPRESSION: UNDEFINED
STANDARD_VERSION: 1996 12
METADATA_DATE: 2000 11 10
DATA_FILE_SIZE: 42125888
BYTE_COUNT: 5488
