FILENAME: O4810850.SWS.1112757.tif
QUADRANGLE_NAME: LAKE SEVENTEEN NE
QUADRANT: SW
WEST_LONGITUDE: -108 52 30.00000
EAST_LONGITUDE: -108 48 45.00000
NORTH_LATITUDE: 48 11 15.00000
SOUTH_LATITUDE: 48 7 30.00000
PRODUCTION_DATE: 2000 10 25
RASTER_ORDER: LEFT_RIGHT/TOP_BOTTOM
BAND_ORGANIZATION: SINGLE FILE
BAND_CONTENT: BLACK&WHITE
BAND_CONTENT: UNDEFINED
BAND_CONTENT: UNDEFINED
BITS_PER_PIXEL: 8
SAMPLES_AND_LINES: 5499 7682
HORIZONTAL_DATUM: NAD83
HORIZONTAL_COORDINATE_SYSTEM: UTM
COORDINATE_ZONE: 12
HORIZONTAL_UNITS: METERS
HORIZONTAL_RESOLUTION: 1.00000
SECONDARY_HORIZONTAL_DATUM: NAD27
XY_ORIGIN: 657581.00000 5339755.00000
SECONDARY_XY_ORIGIN: 657639.38800 5339538.47900
NATION: US
NATION: "SCIENCE
STATE: MT
NW_QUAD_CORNER_XY: 657936.22300 5339323.80300
NE_QUAD_CORNER_XY: 662581.16100 5339454.15300
SE_QUAD_CORNERY_XY: 662778.82400 5332507.90000
SW_QUAD_CORNER_XY: 658128.23400 5332377.51800
SECONDARY_NW_QUAD_XY: 657941.21300 5339104.95000
SECONDARY_NE_QUAD_XY: 662586.29800 5339235.30500
SECONDARY_SE_QUAD_XY: 662783.96000 5332289.06400
SECONDARY_SW_QUAD_XY: 658133.22400 5332158.67900
RMSE_XY: 1.10000
IMAGE_SOURCE: BLACK AND WHITE FILM
SOURCE_IMAGE_ID: NAPP 9157 082
SOURCE_IMAGE_DATE: 1997 09 05
SOURCE_DEM_DATE: 1970 00 00
AGENCY: WESTERN MAPPING CENTER (WMC)
PRODUCER: UNDEFINED
PRODUCTION_SYSTEM: GIS/MAGIC
COMPRESSION: UNDEFINED
STANDARD_VERSION: 1996 12
METADATA_DATE: 2000 11 13
DATA_FILE_SIZE: 42248817
BYTE_COUNT: 5499
