FILENAME: O4810851.NES.1112778.tif
QUADRANGLE_NAME: LODGE POLE NW
QUADRANT: NE
WEST_LONGITUDE: -108 41 15.00000
EAST_LONGITUDE: -108 37 30.00000
NORTH_LATITUDE: 48 15 0.00000
SOUTH_LATITUDE: 48 11 15.00000
PRODUCTION_DATE: 2000 10 25
RASTER_ORDER: LEFT_RIGHT/TOP_BOTTOM
BAND_ORGANIZATION: SINGLE FILE
BAND_CONTENT: BLACK&WHITE
BAND_CONTENT: UNDEFINED
BAND_CONTENT: UNDEFINED
BITS_PER_PIXEL: 8
SAMPLES_AND_LINES: 5509 7694
HORIZONTAL_DATUM: NAD83
HORIZONTAL_COORDINATE_SYSTEM: UTM
COORDINATE_ZONE: 12
HORIZONTAL_UNITS: METERS
HORIZONTAL_RESOLUTION: 1.00000
SECONDARY_HORIZONTAL_DATUM: NAD27
XY_ORIGIN: 671308.00000 5347115.00000
SECONDARY_XY_ORIGIN: 671366.21200 5346898.35300
NATION: US
NATION: "SCIENCE
STATE: MT
NW_QUAD_CORNER_XY: 671661.79900 5346672.44900
NE_QUAD_CORNER_XY: 676301.01200 5346814.11000
SE_QUAD_CORNERY_XY: 676515.84500 5339867.89300
SW_QUAD_CORNER_XY: 671870.97300 5339726.19800
SECONDARY_NW_QUAD_XY: 671667.22900 5346453.59800
SECONDARY_NE_QUAD_XY: 676306.58900 5346595.26300
SECONDARY_SE_QUAD_XY: 676521.42100 5339649.05700
SECONDARY_SW_QUAD_XY: 671876.40300 5339507.35800
RMSE_XY: 1.00000
IMAGE_SOURCE: BLACK AND WHITE FILM
SOURCE_IMAGE_ID: NAPP 9144 193
SOURCE_IMAGE_DATE: 1996 08 25
SOURCE_DEM_DATE: 1970 00 00
AGENCY: WESTERN MAPPING CENTER (WMC)
PRODUCER: UNDEFINED
PRODUCTION_SYSTEM: GIS/MAGIC
COMPRESSION: UNDEFINED
STANDARD_VERSION: 1996 12
METADATA_DATE: 2000 11 30
DATA_FILE_SIZE: 42391755
BYTE_COUNT: 5509
