FILENAME: O4810852.NES.1112822.tif
QUADRANGLE_NAME: LODGE POLE NE
QUADRANT: NE
WEST_LONGITUDE: -108 33 45.00000
EAST_LONGITUDE: -108 30 0.00000
NORTH_LATITUDE: 48 15 0.00000
SOUTH_LATITUDE: 48 11 15.00000
PRODUCTION_DATE: 2000 10 30
RASTER_ORDER: LEFT_RIGHT/TOP_BOTTOM
BAND_ORGANIZATION: SINGLE FILE
BAND_CONTENT: BLACK&WHITE
BAND_CONTENT: UNDEFINED
BAND_CONTENT: UNDEFINED
BITS_PER_PIXEL: 8
SAMPLES_AND_LINES: 5521 7700
HORIZONTAL_DATUM: NAD83
HORIZONTAL_COORDINATE_SYSTEM: UTM
COORDINATE_ZONE: 12
HORIZONTAL_UNITS: METERS
HORIZONTAL_RESOLUTION: 1.00000
SECONDARY_HORIZONTAL_DATUM: NAD27
XY_ORIGIN: 680586.00000 5347409.00000
SECONDARY_XY_ORIGIN: 680644.07500 5347192.31700
NATION: US
NATION: "SCIENCE
STATE: MT
NW_QUAD_CORNER_XY: 680940.20200 5346959.55200
NE_QUAD_CORNER_XY: 685579.36700 5347108.77500
SE_QUAD_CORNERY_XY: 685805.51800 5340162.63000
SW_QUAD_CORNER_XY: 681160.69300 5340013.37000
SECONDARY_NW_QUAD_XY: 680945.92600 5346740.70900
SECONDARY_NE_QUAD_XY: 685585.23800 5346889.93700
SECONDARY_SE_QUAD_XY: 685811.38900 5339943.80400
SECONDARY_SW_QUAD_XY: 681166.41700 5339794.53900
RMSE_XY: 0.80000
IMAGE_SOURCE: BLACK AND WHITE FILM
SOURCE_IMAGE_ID: NAPP 9138 109
SOURCE_IMAGE_DATE: 1996 08 23
SOURCE_DEM_DATE: 1970 00 00
AGENCY: WESTERN MAPPING CENTER (WMC)
PRODUCER: UNDEFINED
PRODUCTION_SYSTEM: GIS/MAGIC
COMPRESSION: UNDEFINED
STANDARD_VERSION: 1996 12
METADATA_DATE: 2000 11 13
DATA_FILE_SIZE: 42517221
BYTE_COUNT: 5521
