FILENAME: O4810853.SWS.1114561.tif
QUADRANGLE_NAME: BIG FLAT WEST
QUADRANT: SW
WEST_LONGITUDE: -108 30 0.00000
EAST_LONGITUDE: -108 26 15.00000
NORTH_LATITUDE: 48 11 15.00000
SOUTH_LATITUDE: 48 7 30.00000
PRODUCTION_DATE: 2000 10 31
RASTER_ORDER: LEFT_RIGHT/TOP_BOTTOM
BAND_ORGANIZATION: SINGLE FILE
BAND_CONTENT: BLACK&WHITE
BAND_CONTENT: UNDEFINED
BAND_CONTENT: UNDEFINED
BITS_PER_PIXEL: 8
SAMPLES_AND_LINES: 5531 7704
HORIZONTAL_DATUM: NAD83
HORIZONTAL_COORDINATE_SYSTEM: UTM
COORDINATE_ZONE: 12
HORIZONTAL_UNITS: METERS
HORIZONTAL_RESOLUTION: 1.00000
SECONDARY_HORIZONTAL_DATUM: NAD27
XY_ORIGIN: 685452.00000 5340616.00000
SECONDARY_XY_ORIGIN: 685510.06700 5340399.30300
NATION: US
NATION: "SCIENCE
STATE: MT
NW_QUAD_CORNER_XY: 685805.51800 5340162.63000
NE_QUAD_CORNER_XY: 690450.31900 5340315.67200
SE_QUAD_CORNERY_XY: 690681.90200 5333369.62500
SW_QUAD_CORNER_XY: 686031.44700 5333216.54600
SECONDARY_NW_QUAD_XY: 685811.38900 5339943.80400
SECONDARY_NE_QUAD_XY: 690456.33600 5340096.85100
SECONDARY_SE_QUAD_XY: 690687.91900 5333150.81700
SECONDARY_SW_QUAD_XY: 686037.31700 5332997.73300
RMSE_XY: 1.10000
IMAGE_SOURCE: BLACK AND WHITE FILM
SOURCE_IMAGE_ID: NAPP 9144 132
SOURCE_IMAGE_DATE: 1996 08 25
SOURCE_IMAGE_ID: NAPP 9144 134
SOURCE_IMAGE_DATE: 1996 08 25
SOURCE_DEM_DATE: 1970 00 00
AGENCY: WESTERN MAPPING CENTER (WMC)
PRODUCER: UNDEFINED
PRODUCTION_SYSTEM: GIS/MAGIC
COMPRESSION: UNDEFINED
STANDARD_VERSION: 1996 12
METADATA_DATE: 2000 11 14
DATA_FILE_SIZE: 42616355
BYTE_COUNT: 5531
