FILENAME: O4810853.SES.1114560.tif
QUADRANGLE_NAME: BIG FLAT WEST
QUADRANT: SE
WEST_LONGITUDE: -108 26 15.00000
EAST_LONGITUDE: -108 22 30.00000
NORTH_LATITUDE: 48 11 15.00000
SOUTH_LATITUDE: 48 7 30.00000
PRODUCTION_DATE: 2000 10 31
RASTER_ORDER: LEFT_RIGHT/TOP_BOTTOM
BAND_ORGANIZATION: SINGLE FILE
BAND_CONTENT: BLACK&WHITE
BAND_CONTENT: UNDEFINED
BAND_CONTENT: UNDEFINED
BITS_PER_PIXEL: 8
SAMPLES_AND_LINES: 5537 7708
HORIZONTAL_DATUM: NAD83
HORIZONTAL_COORDINATE_SYSTEM: UTM
COORDINATE_ZONE: 12
HORIZONTAL_UNITS: METERS
HORIZONTAL_RESOLUTION: 1.00000
SECONDARY_HORIZONTAL_DATUM: NAD27
XY_ORIGIN: 690097.00000 5340773.00000
SECONDARY_XY_ORIGIN: 690154.96500 5340556.31400
NATION: US
NATION: "SCIENCE
STATE: MT
NW_QUAD_CORNER_XY: 690450.31900 5340315.67200
NE_QUAD_CORNER_XY: 695095.09400 5340472.49800
SE_QUAD_CORNERY_XY: 695332.33200 5333526.48900
SW_QUAD_CORNER_XY: 690681.90200 5333369.62500
SECONDARY_NW_QUAD_XY: 690456.33600 5340096.85100
SECONDARY_NE_QUAD_XY: 695101.25800 5340253.68200
SECONDARY_SE_QUAD_XY: 695338.49600 5333307.68500
SECONDARY_SW_QUAD_XY: 690687.91900 5333150.81700
RMSE_XY: 0.60000
IMAGE_SOURCE: BLACK AND WHITE FILM
SOURCE_IMAGE_ID: NAPP 9144 039
SOURCE_IMAGE_DATE: 1996 08 25
SOURCE_IMAGE_ID: NAPP 9143 251
SOURCE_IMAGE_DATE: 1996 08 24
SOURCE_DEM_DATE: 1970 00 00
AGENCY: WESTERN MAPPING CENTER (WMC)
PRODUCER: UNDEFINED
PRODUCTION_SYSTEM: GIS/MAGIC
COMPRESSION: UNDEFINED
STANDARD_VERSION: 1996 12
METADATA_DATE: 2000 11 14
DATA_FILE_SIZE: 42684733
BYTE_COUNT: 5537
