FILENAME: O4810854.SWS.1114609.tif
QUADRANGLE_NAME: BIG FLAT EAST
QUADRANT: SW
WEST_LONGITUDE: -108 22 30.00000
EAST_LONGITUDE: -108 18 45.00000
NORTH_LATITUDE: 48 11 15.00000
SOUTH_LATITUDE: 48 7 30.00000
PRODUCTION_DATE: 2000 10 24
RASTER_ORDER: LEFT_RIGHT/TOP_BOTTOM
BAND_ORGANIZATION: SINGLE FILE
BAND_CONTENT: BLACK&WHITE
BAND_CONTENT: UNDEFINED
BAND_CONTENT: UNDEFINED
BITS_PER_PIXEL: 8
SAMPLES_AND_LINES: 5542 7712
HORIZONTAL_DATUM: NAD83
HORIZONTAL_COORDINATE_SYSTEM: UTM
COORDINATE_ZONE: 12
HORIZONTAL_UNITS: METERS
HORIZONTAL_RESOLUTION: 1.00000
SECONDARY_HORIZONTAL_DATUM: NAD27
XY_ORIGIN: 694742.00000 5340934.00000
SECONDARY_XY_ORIGIN: 694799.86200 5340717.32400
NATION: US
NATION: "SCIENCE
STATE: MT
NW_QUAD_CORNER_XY: 695095.09400 5340472.49800
NE_QUAD_CORNER_XY: 699739.84400 5340633.10700
SE_QUAD_CORNERY_XY: 699982.73700 5333687.13600
SW_QUAD_CORNER_XY: 695332.33200 5333526.48900
SECONDARY_NW_QUAD_XY: 695101.25800 5340253.68200
SECONDARY_NE_QUAD_XY: 699746.15400 5340414.29600
SECONDARY_SE_QUAD_XY: 699989.04700 5333468.33800
SECONDARY_SW_QUAD_XY: 695338.49600 5333307.68500
RMSE_XY: 0.90000
IMAGE_SOURCE: BLACK AND WHITE FILM
SOURCE_IMAGE_ID: NAPP 9143 250
SOURCE_IMAGE_DATE: 1996 08 24
SOURCE_DEM_DATE: 1970 00 00
AGENCY: WESTERN MAPPING CENTER (WMC)
PRODUCER: UNDEFINED
PRODUCTION_SYSTEM: GIS/MAGIC
COMPRESSION: UNDEFINED
STANDARD_VERSION: 1996 12
METADATA_DATE: 2000 11 14
DATA_FILE_SIZE: 42745446
BYTE_COUNT: 5542
