FILENAME: O4810854.NES.1114606.tif
QUADRANGLE_NAME: BIG FLAT EAST
QUADRANT: NE
WEST_LONGITUDE: -108 18 45.00000
EAST_LONGITUDE: -108 15 0.00000
NORTH_LATITUDE: 48 15 0.00000
SOUTH_LATITUDE: 48 11 15.00000
PRODUCTION_DATE: 2000 10 24
RASTER_ORDER: LEFT_RIGHT/TOP_BOTTOM
BAND_ORGANIZATION: SINGLE FILE
BAND_CONTENT: BLACK&WHITE
BAND_CONTENT: UNDEFINED
BAND_CONTENT: UNDEFINED
BITS_PER_PIXEL: 8
SAMPLES_AND_LINES: 5542 7716
HORIZONTAL_DATUM: NAD83
HORIZONTAL_COORDINATE_SYSTEM: UTM
COORDINATE_ZONE: 12
HORIZONTAL_UNITS: METERS
HORIZONTAL_RESOLUTION: 1.00000
SECONDARY_HORIZONTAL_DATUM: NAD27
XY_ORIGIN: 699144.00000 5348044.00000
SECONDARY_XY_ORIGIN: 699201.73300 5347827.33200
NATION: US
NATION: "SCIENCE
STATE: MT
NW_QUAD_CORNER_XY: 699496.71100 5347579.13700
NE_QUAD_CORNER_XY: 704135.77300 5347743.49000
SE_QUAD_CORNERY_XY: 704384.56700 5340797.50000
SW_QUAD_CORNER_XY: 699739.84400 5340633.10700
SECONDARY_NW_QUAD_XY: 699503.02200 5347360.31400
SECONDARY_NE_QUAD_XY: 704142.23100 5347524.67200
SECONDARY_SE_QUAD_XY: 704391.02400 5340578.69400
SECONDARY_SW_QUAD_XY: 699746.15400 5340414.29600
RMSE_XY: 0.70000
IMAGE_SOURCE: BLACK AND WHITE FILM
SOURCE_IMAGE_ID: NAPP 9143 229
SOURCE_IMAGE_DATE: 1996 08 24
SOURCE_DEM_DATE: 1970 00 00
AGENCY: WESTERN MAPPING CENTER (WMC)
PRODUCER: UNDEFINED
PRODUCTION_SYSTEM: GIS/MAGIC
COMPRESSION: UNDEFINED
STANDARD_VERSION: 1996 12
METADATA_DATE: 2000 11 14
DATA_FILE_SIZE: 42767614
BYTE_COUNT: 5542
