FILENAME: O4810855.NWS.1116420.tif
QUADRANGLE_NAME: WILD HORSE RESERVOIR
QUADRANT: NW
WEST_LONGITUDE: -108 15 0.00000
EAST_LONGITUDE: -108 11 15.00000
NORTH_LATITUDE: 48 15 0.00000
SOUTH_LATITUDE: 48 11 15.00000
PRODUCTION_DATE: 2000 10 25
RASTER_ORDER: LEFT_RIGHT/TOP_BOTTOM
BAND_ORGANIZATION: SINGLE FILE
BAND_CONTENT: BLACK&WHITE
BAND_CONTENT: UNDEFINED
BAND_CONTENT: UNDEFINED
BITS_PER_PIXEL: 8
SAMPLES_AND_LINES: 5548 7719
HORIZONTAL_DATUM: NAD83
HORIZONTAL_COORDINATE_SYSTEM: UTM
COORDINATE_ZONE: 12
HORIZONTAL_UNITS: METERS
HORIZONTAL_RESOLUTION: 1.00000
SECONDARY_HORIZONTAL_DATUM: NAD27
XY_ORIGIN: 703783.00000 5348212.00000
SECONDARY_XY_ORIGIN: 703840.63200 5347995.34000
NATION: US
NATION: "SCIENCE
STATE: MT
NW_QUAD_CORNER_XY: 704135.77300 5347743.49000
NE_QUAD_CORNER_XY: 708774.80700 5347911.62500
SE_QUAD_CORNERY_XY: 709029.26300 5340965.67700
SW_QUAD_CORNER_XY: 704384.56700 5340797.50000
SECONDARY_NW_QUAD_XY: 704142.23100 5347524.67200
SECONDARY_NE_QUAD_XY: 708781.41200 5347692.81300
SECONDARY_SE_QUAD_XY: 709035.86800 5340746.87600
SECONDARY_SW_QUAD_XY: 704391.02400 5340578.69400
RMSE_XY: 0.60000
IMAGE_SOURCE: BLACK AND WHITE FILM
SOURCE_IMAGE_ID: NAPP 9143 162
SOURCE_IMAGE_DATE: 1996 08 24
SOURCE_DEM_DATE: 1965 00 00
AGENCY: WESTERN MAPPING CENTER (WMC)
PRODUCER: UNDEFINED
PRODUCTION_SYSTEM: GIS/MAGIC
COMPRESSION: UNDEFINED
STANDARD_VERSION: 1996 12
METADATA_DATE: 2000 11 14
DATA_FILE_SIZE: 42830560
BYTE_COUNT: 5548
