FILENAME: O4810857.NWS.1080679.tif
QUADRANGLE_NAME: LAKE SEVENTEEN WEST
QUADRANT: NW
WEST_LONGITUDE: -109 0 0.00000
EAST_LONGITUDE: -108 56 15.00000
NORTH_LATITUDE: 48 7 30.00000
SOUTH_LATITUDE: 48 3 45.00000
PRODUCTION_DATE: 2000 5 31
RASTER_ORDER: LEFT_RIGHT/TOP_BOTTOM
BAND_ORGANIZATION: SINGLE FILE
BAND_CONTENT: BLACK&WHITE
BAND_CONTENT: UNDEFINED
BAND_CONTENT: UNDEFINED
BITS_PER_PIXEL: 8
SAMPLES_AND_LINES: 5493 7674
HORIZONTAL_DATUM: NAD83
HORIZONTAL_COORDINATE_SYSTEM: UTM
COORDINATE_ZONE: 12
HORIZONTAL_UNITS: METERS
HORIZONTAL_RESOLUTION: 1.00000
SECONDARY_HORIZONTAL_DATUM: NAD27
XY_ORIGIN: 648472.00000 5332551.00000
SECONDARY_XY_ORIGIN: 648530.50400 5332334.65300
NATION: US
NATION: "SCIENCE
STATE: MT
NW_QUAD_CORNER_XY: 648826.99400 5332128.10200
NE_QUAD_CORNER_XY: 653477.62400 5332250.91900
SE_QUAD_CORNERY_XY: 653663.79900 5325304.67000
SW_QUAD_CORNER_XY: 649007.52400 5325181.82400
SECONDARY_NW_QUAD_XY: 648831.69000 5331909.25400
SECONDARY_NE_QUAD_XY: 653482.46700 5332032.07500
SECONDARY_SE_QUAD_XY: 653668.64200 5325085.84000
SECONDARY_SW_QUAD_XY: 649012.21900 5324962.99000
RMSE_XY: 1.00000
IMAGE_SOURCE: BLACK AND WHITE FILM
SOURCE_IMAGE_ID: NAPP 9147 196
SOURCE_IMAGE_DATE: 1996 08 24
SOURCE_IMAGE_ID: NAPP 9147 197
SOURCE_IMAGE_DATE: 1996 08 24
SOURCE_IMAGE_ID: NAPP 9147 195
SOURCE_IMAGE_DATE: 1996 08 24
SOURCE_DEM_DATE: 1970 00 00
AGENCY: WESTERN MAPPING CENTER (WMC)
PRODUCER: UNDEFINED
PRODUCTION_SYSTEM: GIS/MAGIC
COMPRESSION: UNDEFINED
STANDARD_VERSION: 1996 12
METADATA_DATE: 2000 06 14
DATA_FILE_SIZE: 42158775
BYTE_COUNT: 5493
