FILENAME: O4810859.SES.1080705.tif
QUADRANGLE_NAME: STIFFARM COULEE
QUADRANT: SE
WEST_LONGITUDE: -108 41 15.00000
EAST_LONGITUDE: -108 37 30.00000
NORTH_LATITUDE: 48 3 45.00000
SOUTH_LATITUDE: 48 0 0.00000
PRODUCTION_DATE: 2000 6 7
RASTER_ORDER: LEFT_RIGHT/TOP_BOTTOM
BAND_ORGANIZATION: SINGLE FILE
BAND_CONTENT: BLACK&WHITE
BAND_CONTENT: UNDEFINED
BAND_CONTENT: UNDEFINED
BITS_PER_PIXEL: 8
SAMPLES_AND_LINES: 5527 7693
HORIZONTAL_DATUM: NAD83
HORIZONTAL_COORDINATE_SYSTEM: UTM
COORDINATE_ZONE: 12
HORIZONTAL_UNITS: METERS
HORIZONTAL_RESOLUTION: 1.00000
SECONDARY_HORIZONTAL_DATUM: NAD27
XY_ORIGIN: 671934.00000 5326276.00000
SECONDARY_XY_ORIGIN: 671992.44100 5326059.52300
NATION: US
NATION: "SCIENCE
STATE: MT
NW_QUAD_CORNER_XY: 672288.70200 5325833.88500
NE_QUAD_CORNER_XY: 676944.87500 5325975.64700
SE_QUAD_CORNERY_XY: 677159.07200 5319029.61900
SW_QUAD_CORNER_XY: 672497.25700 5318887.82400
SECONDARY_NW_QUAD_XY: 672294.13100 5325615.07100
SECONDARY_NE_QUAD_XY: 676950.45100 5325756.83800
SECONDARY_SE_QUAD_XY: 677164.64800 5318810.82400
SECONDARY_SW_QUAD_XY: 672502.68600 5318669.02500
RMSE_XY: 1.40000
IMAGE_SOURCE: BLACK AND WHITE FILM
SOURCE_IMAGE_ID: NAPP 9144 187
SOURCE_IMAGE_DATE: 1996 08 25
SOURCE_IMAGE_ID: NAPP 9144 252
SOURCE_IMAGE_DATE: 1996 08 25
SOURCE_IMAGE_ID: NAPP 9144 185
SOURCE_IMAGE_DATE: 1996 08 25
SOURCE_IMAGE_ID: NAPP 9144 186
SOURCE_IMAGE_DATE: 1996 08 25
SOURCE_IMAGE_ID: NAPP 9144 188
SOURCE_IMAGE_DATE: 1996 08 25
SOURCE_DEM_DATE: 1970 00 00
AGENCY: WESTERN MAPPING CENTER (WMC)
PRODUCER: UNDEFINED
PRODUCTION_SYSTEM: GIS/MAGIC
COMPRESSION: UNDEFINED
STANDARD_VERSION: 1996 12
METADATA_DATE: 2000 06 14
DATA_FILE_SIZE: 42524738
BYTE_COUNT: 5527
