FILENAME: O4810859.NES.1080703.tif
QUADRANGLE_NAME: STIFFARM COULEE
QUADRANT: NE
WEST_LONGITUDE: -108 41 15.00000
EAST_LONGITUDE: -108 37 30.00000
NORTH_LATITUDE: 48 7 30.00000
SOUTH_LATITUDE: 48 3 45.00000
PRODUCTION_DATE: 2000 6 7
RASTER_ORDER: LEFT_RIGHT/TOP_BOTTOM
BAND_ORGANIZATION: SINGLE FILE
BAND_CONTENT: BLACK&WHITE
BAND_CONTENT: UNDEFINED
BAND_CONTENT: UNDEFINED
BITS_PER_PIXEL: 8
SAMPLES_AND_LINES: 5520 7693
HORIZONTAL_DATUM: NAD83
HORIZONTAL_COORDINATE_SYSTEM: UTM
COORDINATE_ZONE: 12
HORIZONTAL_UNITS: METERS
HORIZONTAL_RESOLUTION: 1.00000
SECONDARY_HORIZONTAL_DATUM: NAD27
XY_ORIGIN: 671726.00000 5333222.00000
SECONDARY_XY_ORIGIN: 671784.36500 5333005.46600
NATION: US
NATION: "SCIENCE
STATE: MT
NW_QUAD_CORNER_XY: 672079.94000 5332780.00900
NE_QUAD_CORNER_XY: 676730.46600 5332921.73800
SE_QUAD_CORNERY_XY: 676944.87500 5325975.64700
SW_QUAD_CORNER_XY: 672288.70200 5325833.88500
SECONDARY_NW_QUAD_XY: 672085.37000 5332561.18200
SECONDARY_NE_QUAD_XY: 676736.04200 5332702.91600
SECONDARY_SE_QUAD_XY: 676950.45100 5325756.83800
SECONDARY_SW_QUAD_XY: 672294.13100 5325615.07100
RMSE_XY: 0.90000
IMAGE_SOURCE: BLACK AND WHITE FILM
SOURCE_IMAGE_ID: NAPP 9144 189
SOURCE_IMAGE_DATE: 1996 08 25
SOURCE_IMAGE_ID: NAPP 9144 250
SOURCE_IMAGE_DATE: 1996 08 25
SOURCE_IMAGE_ID: NAPP 9144 188
SOURCE_IMAGE_DATE: 1996 08 25
SOURCE_IMAGE_ID: NAPP 9144 190
SOURCE_IMAGE_DATE: 1996 08 25
SOURCE_DEM_DATE: 1970 00 00
AGENCY: WESTERN MAPPING CENTER (WMC)
PRODUCER: UNDEFINED
PRODUCTION_SYSTEM: GIS/MAGIC
COMPRESSION: UNDEFINED
STANDARD_VERSION: 1996 12
METADATA_DATE: 2000 06 14
DATA_FILE_SIZE: 42470880
BYTE_COUNT: 5520
