FILENAME: O4810861.NES.1114546.tif
QUADRANGLE_NAME: BALL COULEE
QUADRANT: NE
WEST_LONGITUDE: -108 26 15.00000
EAST_LONGITUDE: -108 22 30.00000
NORTH_LATITUDE: 48 7 30.00000
SOUTH_LATITUDE: 48 3 45.00000
PRODUCTION_DATE: 2000 11 9
RASTER_ORDER: LEFT_RIGHT/TOP_BOTTOM
BAND_ORGANIZATION: SINGLE FILE
BAND_CONTENT: BLACK&WHITE
BAND_CONTENT: UNDEFINED
BAND_CONTENT: UNDEFINED
BITS_PER_PIXEL: 8
SAMPLES_AND_LINES: 5543 7708
HORIZONTAL_DATUM: NAD83
HORIZONTAL_COORDINATE_SYSTEM: UTM
COORDINATE_ZONE: 12
HORIZONTAL_UNITS: METERS
HORIZONTAL_RESOLUTION: 1.00000
SECONDARY_HORIZONTAL_DATUM: NAD27
XY_ORIGIN: 690328.00000 5333827.00000
SECONDARY_XY_ORIGIN: 690386.01200 5333610.32200
NATION: US
NATION: "SCIENCE
STATE: MT
NW_QUAD_CORNER_XY: 690681.90200 5333369.62500
NE_QUAD_CORNER_XY: 695332.33200 5333526.48900
SE_QUAD_CORNERY_XY: 695569.33600 5326580.53900
SW_QUAD_CORNER_XY: 690913.25600 5326423.63900
SECONDARY_NW_QUAD_XY: 690687.91900 5333150.81700
SECONDARY_NE_QUAD_XY: 695338.49600 5333307.68500
SECONDARY_SE_QUAD_XY: 695575.49900 5326361.74900
SECONDARY_SW_QUAD_XY: 690919.27300 5326204.84400
RMSE_XY: 1.00000
IMAGE_SOURCE: BLACK AND WHITE FILM
SOURCE_IMAGE_ID: NAPP 9144 037
SOURCE_IMAGE_DATE: 1996 08 25
SOURCE_DEM_DATE: 1970 00 00
AGENCY: WESTERN MAPPING CENTER (WMC)
PRODUCER: UNDEFINED
PRODUCTION_SYSTEM: GIS/MAGIC
COMPRESSION: UNDEFINED
STANDARD_VERSION: 1996 12
METADATA_DATE: 2000 11 14
DATA_FILE_SIZE: 42730987
BYTE_COUNT: 5543
