FILENAME: O4810862.SES.1114596.tif
QUADRANGLE_NAME: ESTER LAKE
QUADRANT: SE
WEST_LONGITUDE: -108 18 45.00000
EAST_LONGITUDE: -108 15 0.00000
NORTH_LATITUDE: 48 3 45.00000
SOUTH_LATITUDE: 48 0 0.00000
PRODUCTION_DATE: 2000 11 10
RASTER_ORDER: LEFT_RIGHT/TOP_BOTTOM
BAND_ORGANIZATION: SINGLE FILE
BAND_CONTENT: BLACK&WHITE
BAND_CONTENT: UNDEFINED
BAND_CONTENT: UNDEFINED
BITS_PER_PIXEL: 8
SAMPLES_AND_LINES: 5559 7715
HORIZONTAL_DATUM: NAD83
HORIZONTAL_COORDINATE_SYSTEM: UTM
COORDINATE_ZONE: 12
HORIZONTAL_UNITS: METERS
HORIZONTAL_RESOLUTION: 1.00000
SECONDARY_HORIZONTAL_DATUM: NAD27
XY_ORIGIN: 699872.00000 5327206.00000
SECONDARY_XY_ORIGIN: 699929.81300 5326989.34000
NATION: US
NATION: "SCIENCE
STATE: MT
NW_QUAD_CORNER_XY: 700225.39100 5326741.22500
NE_QUAD_CORNER_XY: 704881.42000 5326905.69600
SE_QUAD_CORNERY_XY: 705129.47900 5319959.88200
SW_QUAD_CORNER_XY: 700467.80500 5319795.37300
SECONDARY_NW_QUAD_XY: 700231.70100 5326522.44000
SECONDARY_NE_QUAD_XY: 704887.87700 5326686.91600
SECONDARY_SE_QUAD_XY: 705135.93500 5319741.11600
SECONDARY_SW_QUAD_XY: 700474.11400 5319576.60200
RMSE_XY: 1.00000
IMAGE_SOURCE: BLACK AND WHITE FILM
SOURCE_IMAGE_ID: NAPP 9143 223
SOURCE_IMAGE_DATE: 1996 08 24
SOURCE_DEM_DATE: 1970 00 00
AGENCY: WESTERN MAPPING CENTER (WMC)
PRODUCER: UNDEFINED
PRODUCTION_SYSTEM: GIS/MAGIC
COMPRESSION: UNDEFINED
STANDARD_VERSION: 1996 12
METADATA_DATE: 2000 11 14
DATA_FILE_SIZE: 42893244
BYTE_COUNT: 5559
