FILENAME: O4810863.NWS.1116426.tif
QUADRANGLE_NAME: PHILLIPS
QUADRANT: NW
WEST_LONGITUDE: -108 15 0.00000
EAST_LONGITUDE: -108 11 15.00000
NORTH_LATITUDE: 48 7 30.00000
SOUTH_LATITUDE: 48 3 45.00000
PRODUCTION_DATE: 2000 11 13
RASTER_ORDER: LEFT_RIGHT/TOP_BOTTOM
BAND_ORGANIZATION: SINGLE FILE
BAND_CONTENT: BLACK&WHITE
BAND_CONTENT: UNDEFINED
BAND_CONTENT: UNDEFINED
BITS_PER_PIXEL: 8
SAMPLES_AND_LINES: 5559 7719
HORIZONTAL_DATUM: NAD83
HORIZONTAL_COORDINATE_SYSTEM: UTM
COORDINATE_ZONE: 12
HORIZONTAL_UNITS: METERS
HORIZONTAL_RESOLUTION: 1.00000
SECONDARY_HORIZONTAL_DATUM: NAD27
XY_ORIGIN: 704280.00000 5334320.00000
SECONDARY_XY_ORIGIN: 704337.66400 5334103.33800
NATION: US
NATION: "SCIENCE
STATE: MT
NW_QUAD_CORNER_XY: 704633.11600 5333851.56900
NE_QUAD_CORNER_XY: 709283.46900 5334019.78600
SE_QUAD_CORNERY_XY: 709537.42400 5327073.95300
SW_QUAD_CORNER_XY: 704881.42000 5326905.69600
SECONDARY_NW_QUAD_XY: 704639.57300 5333632.77500
SECONDARY_NE_QUAD_XY: 709290.07300 5333800.99800
SECONDARY_SE_QUAD_XY: 709544.02700 5326855.17800
SECONDARY_SW_QUAD_XY: 704887.87700 5326686.91600
RMSE_XY: 0.50000
IMAGE_SOURCE: BLACK AND WHITE FILM
SOURCE_IMAGE_ID: NAPP 9143 166
SOURCE_IMAGE_DATE: 1996 08 24
SOURCE_IMAGE_ID: NAPP 9143 165
SOURCE_IMAGE_DATE: 1996 08 24
SOURCE_DEM_DATE: 1965 00 00
AGENCY: WESTERN MAPPING CENTER (WMC)
PRODUCER: UNDEFINED
PRODUCTION_SYSTEM: GIS/MAGIC
COMPRESSION: UNDEFINED
STANDARD_VERSION: 1996 12
METADATA_DATE: 2000 11 14
DATA_FILE_SIZE: 42915480
BYTE_COUNT: 5559
