FILENAME: O4810864.SWS.1116528.tif
QUADRANGLE_NAME: SEYMOUR RESERVOIR
QUADRANT: SW
WEST_LONGITUDE: -108 7 30.00000
EAST_LONGITUDE: -108 3 45.00000
NORTH_LATITUDE: 48 3 45.00000
SOUTH_LATITUDE: 48 0 0.00000
PRODUCTION_DATE: 2000 11 10
RASTER_ORDER: LEFT_RIGHT/TOP_BOTTOM
BAND_ORGANIZATION: SINGLE FILE
BAND_CONTENT: BLACK&WHITE
BAND_CONTENT: UNDEFINED
BAND_CONTENT: UNDEFINED
BITS_PER_PIXEL: 8
SAMPLES_AND_LINES: 5575 7726
HORIZONTAL_DATUM: NAD83
HORIZONTAL_COORDINATE_SYSTEM: UTM
COORDINATE_ZONE: 12
HORIZONTAL_UNITS: METERS
HORIZONTAL_RESOLUTION: 1.00000
SECONDARY_HORIZONTAL_DATUM: NAD27
XY_ORIGIN: 713841.00000 5327722.00000
SECONDARY_XY_ORIGIN: 713898.62000 5327505.45300
NATION: US
NATION: "SCIENCE
STATE: MT
NW_QUAD_CORNER_XY: 714193.40100 5327245.99600
NE_QUAD_CORNER_XY: 718849.35000 5327421.82600
SE_QUAD_CORNERY_XY: 719114.34700 5320476.13100
SW_QUAD_CORNER_XY: 714452.75100 5320300.26000
SECONDARY_NW_QUAD_XY: 714200.15100 5327027.22700
SECONDARY_NE_QUAD_XY: 718856.24700 5327203.06200
SECONDARY_SE_QUAD_XY: 719121.24300 5320257.38200
SECONDARY_SW_QUAD_XY: 714459.50000 5320081.50600
RMSE_XY: 1.00000
IMAGE_SOURCE: BLACK AND WHITE FILM
SOURCE_IMAGE_ID: NAPP 9142 184
SOURCE_IMAGE_DATE: 1996 08 24
SOURCE_DEM_DATE: 1965 00 00
AGENCY: WESTERN MAPPING CENTER (WMC)
PRODUCER: UNDEFINED
PRODUCTION_SYSTEM: GIS/MAGIC
COMPRESSION: UNDEFINED
STANDARD_VERSION: 1996 12
METADATA_DATE: 2000 11 14
DATA_FILE_SIZE: 43078025
BYTE_COUNT: 5575
