FILENAME: O4810864.NWS.1116526.tif
QUADRANGLE_NAME: SEYMOUR RESERVOIR
QUADRANT: NW
WEST_LONGITUDE: -108 7 30.00000
EAST_LONGITUDE: -108 3 45.00000
NORTH_LATITUDE: 48 7 30.00000
SOUTH_LATITUDE: 48 3 45.00000
PRODUCTION_DATE: 2000 11 13
RASTER_ORDER: LEFT_RIGHT/TOP_BOTTOM
BAND_ORGANIZATION: SINGLE FILE
BAND_CONTENT: BLACK&WHITE
BAND_CONTENT: UNDEFINED
BAND_CONTENT: UNDEFINED
BITS_PER_PIXEL: 8
SAMPLES_AND_LINES: 5570 7727
HORIZONTAL_DATUM: NAD83
HORIZONTAL_COORDINATE_SYSTEM: UTM
COORDINATE_ZONE: 12
HORIZONTAL_UNITS: METERS
HORIZONTAL_RESOLUTION: 1.00000
SECONDARY_HORIZONTAL_DATUM: NAD27
XY_ORIGIN: 713581.00000 5334668.00000
SECONDARY_XY_ORIGIN: 713638.59100 5334451.44300
NATION: US
NATION: "SCIENCE
STATE: MT
NW_QUAD_CORNER_XY: 713933.79400 5334191.78900
NE_QUAD_CORNER_XY: 718584.09200 5334367.57700
SE_QUAD_CORNERY_XY: 718849.35000 5327421.82600
SW_QUAD_CORNER_XY: 714193.40100 5327245.99600
SECONDARY_NW_QUAD_XY: 713940.54500 5333973.00600
SECONDARY_NE_QUAD_XY: 718590.99000 5334148.80000
SECONDARY_SE_QUAD_XY: 718856.24700 5327203.06200
SECONDARY_SW_QUAD_XY: 714200.15100 5327027.22700
RMSE_XY: 0.70000
IMAGE_SOURCE: BLACK AND WHITE FILM
SOURCE_IMAGE_ID: NAPP 9142 182
SOURCE_IMAGE_DATE: 1996 08 24
SOURCE_DEM_DATE: 1965 00 00
AGENCY: WESTERN MAPPING CENTER (WMC)
PRODUCER: UNDEFINED
PRODUCTION_SYSTEM: GIS/MAGIC
COMPRESSION: UNDEFINED
STANDARD_VERSION: 1996 12
METADATA_DATE: 2000 11 14
DATA_FILE_SIZE: 43044960
BYTE_COUNT: 5570
