FILENAME: O4810701.SES.1112672.tif
QUADRANGLE_NAME: LORING NW
QUADRANT: SE
WEST_LONGITUDE: -107 56 15.00000
EAST_LONGITUDE: -107 52 30.00000
NORTH_LATITUDE: 48 56 15.00000
SOUTH_LATITUDE: 48 52 30.00000
PRODUCTION_DATE: 2000 11 8
RASTER_ORDER: LEFT_RIGHT/TOP_BOTTOM
BAND_ORGANIZATION: SINGLE FILE
BAND_CONTENT: BLACK&WHITE
BAND_CONTENT: UNDEFINED
BAND_CONTENT: UNDEFINED
BITS_PER_PIXEL: 8
SAMPLES_AND_LINES: 5497 7728
HORIZONTAL_DATUM: NAD83
HORIZONTAL_COORDINATE_SYSTEM: UTM
COORDINATE_ZONE: 13
HORIZONTAL_UNITS: METERS
HORIZONTAL_RESOLUTION: 1.00000
SECONDARY_HORIZONTAL_DATUM: NAD27
XY_ORIGIN: 284269.00000 5424971.00000
SECONDARY_XY_ORIGIN: 284310.25500 5424748.63600
NATION: US
NATION: "SCIENCE
STATE: MT
NW_QUAD_CORNER_XY: 284887.96300 5424667.43800
NE_QUAD_CORNER_XY: 289464.28400 5424492.26400
SE_QUAD_CORNERY_XY: 289201.37200 5417545.73300
SW_QUAD_CORNER_XY: 284619.32700 5417720.95900
SECONDARY_NW_QUAD_XY: 284881.06100 5424448.56300
SECONDARY_NE_QUAD_XY: 289457.53000 5424273.38400
SECONDARY_SE_QUAD_XY: 289194.61800 5417326.85500
SECONDARY_SW_QUAD_XY: 284612.42600 5417502.08700
RMSE_XY: 1.10000
IMAGE_SOURCE: BLACK AND WHITE FILM
SOURCE_IMAGE_ID: NAPP 9157 216
SOURCE_IMAGE_DATE: 1997 09 05
SOURCE_DEM_DATE: 1975 00 00
AGENCY: WESTERN MAPPING CENTER (WMC)
PRODUCER: UNDEFINED
PRODUCTION_SYSTEM: GIS/MAGIC
COMPRESSION: UNDEFINED
STANDARD_VERSION: 1996 12
METADATA_DATE: 2000 11 30
DATA_FILE_SIZE: 42486313
BYTE_COUNT: 5497
