FILENAME: O4810702.SES.1112720.tif
QUADRANGLE_NAME: MORGAN
QUADRANT: SE
WEST_LONGITUDE: -107 48 45.00000
EAST_LONGITUDE: -107 45 0.00000
NORTH_LATITUDE: 48 56 15.00000
SOUTH_LATITUDE: 48 52 30.00000
PRODUCTION_DATE: 2000 11 8
RASTER_ORDER: LEFT_RIGHT/TOP_BOTTOM
BAND_ORGANIZATION: SINGLE FILE
BAND_CONTENT: BLACK&WHITE
BAND_CONTENT: UNDEFINED
BAND_CONTENT: UNDEFINED
BITS_PER_PIXEL: 8
SAMPLES_AND_LINES: 5485 7721
HORIZONTAL_DATUM: NAD83
HORIZONTAL_COORDINATE_SYSTEM: UTM
COORDINATE_ZONE: 13
HORIZONTAL_UNITS: METERS
HORIZONTAL_RESOLUTION: 1.00000
SECONDARY_HORIZONTAL_DATUM: NAD27
XY_ORIGIN: 293434.00000 5424625.00000
SECONDARY_XY_ORIGIN: 293475.00700 5424402.47600
NATION: US
NATION: "SCIENCE
STATE: MT
NW_QUAD_CORNER_XY: 294040.64000 5424320.86300
NE_QUAD_CORNER_XY: 298617.02900 5424153.23300
SE_QUAD_CORNERY_XY: 298365.56300 5417206.60100
SW_QUAD_CORNER_XY: 293783.45100 5417374.28100
SECONDARY_NW_QUAD_XY: 294034.03200 5424101.97700
SECONDARY_NE_QUAD_XY: 298610.56900 5423934.34200
SECONDARY_SE_QUAD_XY: 298359.10200 5416987.71200
SECONDARY_SW_QUAD_XY: 293776.84300 5417155.39700
RMSE_XY: 1.30000
IMAGE_SOURCE: BLACK AND WHITE FILM
SOURCE_IMAGE_ID: NAPP 9148 084
SOURCE_IMAGE_DATE: 1996 08 27
SOURCE_DEM_DATE: 1975 00 00
AGENCY: WESTERN MAPPING CENTER (WMC)
PRODUCER: UNDEFINED
PRODUCTION_SYSTEM: GIS/MAGIC
COMPRESSION: UNDEFINED
STANDARD_VERSION: 1996 12
METADATA_DATE: 2000 11 30
DATA_FILE_SIZE: 42355170
BYTE_COUNT: 5485
