FILENAME: O4810702.NES.1112718.tif
QUADRANGLE_NAME: MORGAN
QUADRANT: NE
WEST_LONGITUDE: -107 48 45.00000
EAST_LONGITUDE: -107 45 0.00000
NORTH_LATITUDE: 49 0 0.00000
SOUTH_LATITUDE: 48 56 15.00000
PRODUCTION_DATE: 2000 11 8
RASTER_ORDER: LEFT_RIGHT/TOP_BOTTOM
BAND_ORGANIZATION: SINGLE FILE
BAND_CONTENT: BLACK&WHITE
BAND_CONTENT: UNDEFINED
BAND_CONTENT: UNDEFINED
BITS_PER_PIXEL: 8
SAMPLES_AND_LINES: 5478 7721
HORIZONTAL_DATUM: NAD83
HORIZONTAL_COORDINATE_SYSTEM: UTM
COORDINATE_ZONE: 13
HORIZONTAL_UNITS: METERS
HORIZONTAL_RESOLUTION: 1.00000
SECONDARY_HORIZONTAL_DATUM: NAD27
XY_ORIGIN: 293692.00000 5431572.00000
SECONDARY_XY_ORIGIN: 293732.73900 5431349.10100
NATION: US
NATION: CA
NATION: "SCIENCE
STATE: MT
NW_QUAD_CORNER_XY: 294298.07600 5431267.50300
NE_QUAD_CORNER_XY: 298868.73700 5431099.92400
SE_QUAD_CORNERY_XY: 298617.02900 5424153.23300
SW_QUAD_CORNER_XY: 294040.64000 5424320.86300
SECONDARY_NW_QUAD_XY: 294291.46800 5431048.61500
SECONDARY_NE_QUAD_XY: 298862.27700 5430881.03100
SECONDARY_SE_QUAD_XY: 298610.56900 5423934.34200
SECONDARY_SW_QUAD_XY: 294034.03200 5424101.97700
RMSE_XY: 1.00000
IMAGE_SOURCE: BLACK AND WHITE FILM
SOURCE_IMAGE_ID: NAPP 9148 082
SOURCE_IMAGE_DATE: 1996 08 27
SOURCE_DEM_DATE: 1975 00 00
AGENCY: WESTERN MAPPING CENTER (WMC)
PRODUCER: UNDEFINED
PRODUCTION_SYSTEM: GIS/MAGIC
COMPRESSION: UNDEFINED
STANDARD_VERSION: 1996 12
METADATA_DATE: 2000 11 30
DATA_FILE_SIZE: 42301116
BYTE_COUNT: 5478
