FILENAME: O4810703.SWS.1116689.tif
QUADRANGLE_NAME: GUSTIN COULEE
QUADRANT: SW
WEST_LONGITUDE: -107 45 0.00000
EAST_LONGITUDE: -107 41 15.00000
NORTH_LATITUDE: 48 56 15.00000
SOUTH_LATITUDE: 48 52 30.00000
PRODUCTION_DATE: 2000 11 8
RASTER_ORDER: LEFT_RIGHT/TOP_BOTTOM
BAND_ORGANIZATION: SINGLE FILE
BAND_CONTENT: BLACK&WHITE
BAND_CONTENT: UNDEFINED
BAND_CONTENT: UNDEFINED
BITS_PER_PIXEL: 8
SAMPLES_AND_LINES: 5479 7717
HORIZONTAL_DATUM: NAD83
HORIZONTAL_COORDINATE_SYSTEM: UTM
COORDINATE_ZONE: 13
HORIZONTAL_UNITS: METERS
HORIZONTAL_RESOLUTION: 1.00000
SECONDARY_HORIZONTAL_DATUM: NAD27
XY_ORIGIN: 298016.00000 5424457.00000
SECONDARY_XY_ORIGIN: 298056.89100 5424234.38400
NATION: US
NATION: "SCIENCE
STATE: MT
NW_QUAD_CORNER_XY: 298617.02900 5424153.23300
NE_QUAD_CORNER_XY: 303193.45200 5423989.37500
SE_QUAD_CORNERY_XY: 302947.70700 5417042.69400
SW_QUAD_CORNER_XY: 298365.56300 5417206.60100
SECONDARY_NW_QUAD_XY: 298610.56900 5423934.34200
SECONDARY_NE_QUAD_XY: 303187.13800 5423770.47800
SECONDARY_SE_QUAD_XY: 302941.39300 5416823.80000
SECONDARY_SW_QUAD_XY: 298359.10200 5416987.71200
RMSE_XY: 1.00000
IMAGE_SOURCE: BLACK AND WHITE FILM
SOURCE_IMAGE_ID: NAPP 9148 141
SOURCE_IMAGE_DATE: 1996 08 27
SOURCE_DEM_DATE: 1974 00 00
AGENCY: WESTERN MAPPING CENTER (WMC)
PRODUCER: UNDEFINED
PRODUCTION_SYSTEM: GIS/MAGIC
COMPRESSION: UNDEFINED
STANDARD_VERSION: 1996 12
METADATA_DATE: 2000 11 30
DATA_FILE_SIZE: 42286922
BYTE_COUNT: 5479
