FILENAME: O4810703.SES.1116688.tif
QUADRANGLE_NAME: GUSTIN COULEE
QUADRANT: SE
WEST_LONGITUDE: -107 41 15.00000
EAST_LONGITUDE: -107 37 30.00000
NORTH_LATITUDE: 48 56 15.00000
SOUTH_LATITUDE: 48 52 30.00000
PRODUCTION_DATE: 2000 11 8
RASTER_ORDER: LEFT_RIGHT/TOP_BOTTOM
BAND_ORGANIZATION: SINGLE FILE
BAND_CONTENT: BLACK&WHITE
BAND_CONTENT: UNDEFINED
BAND_CONTENT: UNDEFINED
BITS_PER_PIXEL: 8
SAMPLES_AND_LINES: 5472 7713
HORIZONTAL_DATUM: NAD83
HORIZONTAL_COORDINATE_SYSTEM: UTM
COORDINATE_ZONE: 13
HORIZONTAL_UNITS: METERS
HORIZONTAL_RESOLUTION: 1.00000
SECONDARY_HORIZONTAL_DATUM: NAD27
XY_ORIGIN: 302599.00000 5424293.00000
SECONDARY_XY_ORIGIN: 302639.83300 5424070.51500
NATION: US
NATION: "SCIENCE
STATE: MT
NW_QUAD_CORNER_XY: 303193.45200 5423989.37500
NE_QUAD_CORNER_XY: 307769.90600 5423829.28800
SE_QUAD_CORNERY_XY: 307529.88300 5416882.56000
SW_QUAD_CORNER_XY: 302947.70700 5417042.69400
SECONDARY_NW_QUAD_XY: 303187.13800 5423770.47800
SECONDARY_NE_QUAD_XY: 307763.73900 5423610.38600
SECONDARY_SE_QUAD_XY: 307523.71600 5416663.66000
SECONDARY_SW_QUAD_XY: 302941.39300 5416823.80000
RMSE_XY: 0.60000
IMAGE_SOURCE: BLACK AND WHITE FILM
SOURCE_IMAGE_ID: NAPP 9131 066
SOURCE_IMAGE_DATE: 1996 07 29
SOURCE_DEM_DATE: 1974 00 00
AGENCY: WESTERN MAPPING CENTER (WMC)
PRODUCER: UNDEFINED
PRODUCTION_SYSTEM: GIS/MAGIC
COMPRESSION: UNDEFINED
STANDARD_VERSION: 1996 12
METADATA_DATE: 2000 11 30
DATA_FILE_SIZE: 42211008
BYTE_COUNT: 5472
