FILENAME: O4810704.SES.1116740.tif
QUADRANGLE_NAME: PEA LAKE
QUADRANT: SE
WEST_LONGITUDE: -107 33 45.00000
EAST_LONGITUDE: -107 30 0.00000
NORTH_LATITUDE: 48 56 15.00000
SOUTH_LATITUDE: 48 52 30.00000
PRODUCTION_DATE: 2000 11 2
RASTER_ORDER: LEFT_RIGHT/TOP_BOTTOM
BAND_ORGANIZATION: SINGLE FILE
BAND_CONTENT: BLACK&WHITE
BAND_CONTENT: UNDEFINED
BAND_CONTENT: UNDEFINED
BITS_PER_PIXEL: 8
SAMPLES_AND_LINES: 5460 7706
HORIZONTAL_DATUM: NAD83
HORIZONTAL_COORDINATE_SYSTEM: UTM
COORDINATE_ZONE: 13
HORIZONTAL_UNITS: METERS
HORIZONTAL_RESOLUTION: 1.00000
SECONDARY_HORIZONTAL_DATUM: NAD27
XY_ORIGIN: 311764.00000 5423977.00000
SECONDARY_XY_ORIGIN: 311804.71800 5423754.77500
NATION: US
NATION: "SCIENCE
STATE: MT
NW_QUAD_CORNER_XY: 312346.39200 5423672.97200
NE_QUAD_CORNER_XY: 316922.90800 5423520.42700
SE_QUAD_CORNERY_XY: 316694.32600 5416573.60600
SW_QUAD_CORNER_XY: 312112.08900 5416726.19700
SECONDARY_NW_QUAD_XY: 312340.37100 5423454.06600
SECONDARY_NE_QUAD_XY: 316917.03500 5423301.51500
SECONDARY_SE_QUAD_XY: 316688.45300 5416354.69700
SECONDARY_SW_QUAD_XY: 312106.06900 5416507.29300
RMSE_XY: 0.80000
IMAGE_SOURCE: BLACK AND WHITE FILM
SOURCE_IMAGE_ID: NAPP 9148 156
SOURCE_IMAGE_DATE: 1996 08 27
SOURCE_DEM_DATE: 1974 00 00
AGENCY: WESTERN MAPPING CENTER (WMC)
PRODUCER: UNDEFINED
PRODUCTION_SYSTEM: GIS/MAGIC
COMPRESSION: UNDEFINED
STANDARD_VERSION: 1996 12
METADATA_DATE: 2000 11 30
DATA_FILE_SIZE: 42080220
BYTE_COUNT: 5460
