FILENAME: O4810705.SWS.1116589.tif
QUADRANGLE_NAME: THOENY HILLS WEST
QUADRANT: SW
WEST_LONGITUDE: -107 30 0.00000
EAST_LONGITUDE: -107 26 15.00000
NORTH_LATITUDE: 48 56 15.00000
SOUTH_LATITUDE: 48 52 30.00000
PRODUCTION_DATE: 2000 11 2
RASTER_ORDER: LEFT_RIGHT/TOP_BOTTOM
BAND_ORGANIZATION: SINGLE FILE
BAND_CONTENT: BLACK&WHITE
BAND_CONTENT: UNDEFINED
BAND_CONTENT: UNDEFINED
BITS_PER_PIXEL: 8
SAMPLES_AND_LINES: 5455 7702
HORIZONTAL_DATUM: NAD83
HORIZONTAL_COORDINATE_SYSTEM: UTM
COORDINATE_ZONE: 13
HORIZONTAL_UNITS: METERS
HORIZONTAL_RESOLUTION: 1.00000
SECONDARY_HORIZONTAL_DATUM: NAD27
XY_ORIGIN: 316346.00000 5423824.00000
SECONDARY_XY_ORIGIN: 316386.65000 5423601.92800
NATION: US
NATION: "SCIENCE
STATE: MT
NW_QUAD_CORNER_XY: 316922.90800 5423520.42700
NE_QUAD_CORNER_XY: 321499.45400 5423371.65200
SE_QUAD_CORNERY_XY: 321276.59200 5416424.78700
SW_QUAD_CORNER_XY: 316694.32600 5416573.60600
SECONDARY_NW_QUAD_XY: 316917.03500 5423301.51500
SECONDARY_NE_QUAD_XY: 321493.72700 5423152.73600
SECONDARY_SE_QUAD_XY: 321270.86600 5416205.87300
SECONDARY_SW_QUAD_XY: 316688.45300 5416354.69700
RMSE_XY: 1.20000
IMAGE_SOURCE: BLACK AND WHITE FILM
SOURCE_IMAGE_ID: NAPP 9148 175
SOURCE_IMAGE_DATE: 1996 08 27
SOURCE_DEM_DATE: 1974 00 00
AGENCY: WESTERN MAPPING CENTER (WMC)
PRODUCER: UNDEFINED
PRODUCTION_SYSTEM: GIS/MAGIC
COMPRESSION: UNDEFINED
STANDARD_VERSION: 1996 12
METADATA_DATE: 2000 11 30
DATA_FILE_SIZE: 42019865
BYTE_COUNT: 5455
