FILENAME: O4810706.SWS.1116621.tif
QUADRANGLE_NAME: THOENY HILLS EAST
QUADRANT: SW
WEST_LONGITUDE: -107 22 30.00000
EAST_LONGITUDE: -107 18 45.00000
NORTH_LATITUDE: 48 56 15.00000
SOUTH_LATITUDE: 48 52 30.00000
PRODUCTION_DATE: 2000 11 10
RASTER_ORDER: LEFT_RIGHT/TOP_BOTTOM
BAND_ORGANIZATION: SINGLE FILE
BAND_CONTENT: BLACK&WHITE
BAND_CONTENT: UNDEFINED
BAND_CONTENT: UNDEFINED
BITS_PER_PIXEL: 8
SAMPLES_AND_LINES: 5443 7694
HORIZONTAL_DATUM: NAD83
HORIZONTAL_COORDINATE_SYSTEM: UTM
COORDINATE_ZONE: 13
HORIZONTAL_UNITS: METERS
HORIZONTAL_RESOLUTION: 1.00000
SECONDARY_HORIZONTAL_DATUM: NAD27
XY_ORIGIN: 325511.00000 5423530.00000
SECONDARY_XY_ORIGIN: 325551.50300 5423307.81800
NATION: US
NATION: "SCIENCE
STATE: MT
NW_QUAD_CORNER_XY: 326076.02900 5423226.64700
NE_QUAD_CORNER_XY: 330652.63200 5423085.41200
SE_QUAD_CORNERY_XY: 330441.21000 5416138.46200
SW_QUAD_CORNER_XY: 325858.88700 5416279.73900
SECONDARY_NW_QUAD_XY: 326070.44900 5423007.72600
SECONDARY_NE_QUAD_XY: 330647.19900 5422866.48600
SECONDARY_SE_QUAD_XY: 330435.77700 5415919.53900
SECONDARY_SW_QUAD_XY: 325853.30700 5416060.82000
RMSE_XY: 1.20000
IMAGE_SOURCE: BLACK AND WHITE FILM
SOURCE_IMAGE_ID: NAPP 9148 187
SOURCE_IMAGE_DATE: 1996 08 27
SOURCE_IMAGE_ID: NAPP 9148 188
SOURCE_IMAGE_DATE: 1996 08 27
SOURCE_DEM_DATE: 1974 00 00
AGENCY: WESTERN MAPPING CENTER (WMC)
PRODUCER: UNDEFINED
PRODUCTION_SYSTEM: GIS/MAGIC
COMPRESSION: UNDEFINED
STANDARD_VERSION: 1996 12
METADATA_DATE: 2000 11 30
DATA_FILE_SIZE: 41883885
BYTE_COUNT: 5443
