FILENAME: O4810706.SES.1116620.tif
QUADRANGLE_NAME: THOENY HILLS EAST
QUADRANT: SE
WEST_LONGITUDE: -107 18 45.00000
EAST_LONGITUDE: -107 15 0.00000
NORTH_LATITUDE: 48 56 15.00000
SOUTH_LATITUDE: 48 52 30.00000
PRODUCTION_DATE: 2000 11 13
RASTER_ORDER: LEFT_RIGHT/TOP_BOTTOM
BAND_ORGANIZATION: SINGLE FILE
BAND_CONTENT: BLACK&WHITE
BAND_CONTENT: UNDEFINED
BAND_CONTENT: UNDEFINED
BITS_PER_PIXEL: 8
SAMPLES_AND_LINES: 5437 7691
HORIZONTAL_DATUM: NAD83
HORIZONTAL_COORDINATE_SYSTEM: UTM
COORDINATE_ZONE: 13
HORIZONTAL_UNITS: METERS
HORIZONTAL_RESOLUTION: 1.00000
SECONDARY_HORIZONTAL_DATUM: NAD27
XY_ORIGIN: 330094.00000 5423389.00000
SECONDARY_XY_ORIGIN: 330134.43000 5423166.76300
NATION: US
NATION: "SCIENCE
STATE: MT
NW_QUAD_CORNER_XY: 330652.63200 5423085.41200
NE_QUAD_CORNER_XY: 335229.26300 5422947.94600
SE_QUAD_CORNERY_XY: 335023.55900 5416000.95500
SW_QUAD_CORNER_XY: 330441.21000 5416138.46200
SECONDARY_NW_QUAD_XY: 330647.19900 5422866.48600
SECONDARY_NE_QUAD_XY: 335223.97700 5422729.01600
SECONDARY_SE_QUAD_XY: 335018.27400 5415782.02800
SECONDARY_SW_QUAD_XY: 330435.77700 5415919.53900
RMSE_XY: 1.50000
IMAGE_SOURCE: BLACK AND WHITE FILM
SOURCE_IMAGE_ID: NAPP 9148 196
SOURCE_IMAGE_DATE: 1996 08 27
SOURCE_IMAGE_ID: NAPP 9148 197
SOURCE_IMAGE_DATE: 1996 08 27
SOURCE_DEM_DATE: 1974 00 00
AGENCY: WESTERN MAPPING CENTER (WMC)
PRODUCER: UNDEFINED
PRODUCTION_SYSTEM: GIS/MAGIC
COMPRESSION: UNDEFINED
STANDARD_VERSION: 1996 12
METADATA_DATE: 2000 11 30
DATA_FILE_SIZE: 41821404
BYTE_COUNT: 5437
