FILENAME: O4810708.SWS.1160057.tif
QUADRANGLE_NAME: BLACK CALF RESERVOIR
QUADRANT: SW
WEST_LONGITUDE: -107 7 30.00000
EAST_LONGITUDE: -107 3 45.00000
NORTH_LATITUDE: 48 56 15.00000
SOUTH_LATITUDE: 48 52 30.00000
PRODUCTION_DATE: 2001 8 23
RASTER_ORDER: LEFT_RIGHT/TOP_BOTTOM
BAND_ORGANIZATION: SINGLE FILE
BAND_CONTENT: BLACK&WHITE
BAND_CONTENT: UNDEFINED
BAND_CONTENT: UNDEFINED
BITS_PER_PIXEL: 8
SAMPLES_AND_LINES: 5427 7687
HORIZONTAL_DATUM: NAD83
HORIZONTAL_COORDINATE_SYSTEM: UTM
COORDINATE_ZONE: 13
HORIZONTAL_UNITS: meters
HORIZONTAL_RESOLUTION: 1.00000
SECONDARY_HORIZONTAL_DATUM: NAD27
XY_ORIGIN: 343838.00000 5422993.00000
SECONDARY_XY_ORIGIN: 343878.24400 5422770.62500
NATION: US
STATE: MT
NW_QUAD_CORNER_XY: 344382.60400 5422684.32300
NE_QUAD_CORNER_XY: 348959.31300 5422558.16400
SE_QUAD_CORNERY_XY: 348770.76400 5415611.05700
SW_QUAD_CORNER_XY: 344188.33700 5415737.25300
SECONDARY_NW_QUAD_XY: 344377.61200 5422465.38400
SECONDARY_NE_QUAD_XY: 348954.46800 5422339.22200
SECONDARY_SE_QUAD_XY: 348765.91900 5415392.11700
SECONDARY_SW_QUAD_XY: 344183.34500 5415518.31700
RMSE_XY: 2.51000
IMAGE_SOURCE: BLACK AND WHITE FILM
SOURCE_IMAGE_ID: NAPP 9101-171
SOURCE_IMAGE_DATE: 1996 7 15
SOURCE_DEM_DATE: 1998 0 0
AGENCY: WESTERN MAPPING CENTER (WMC)
PRODUCER: WOOLPERT LLP
PRODUCTION_SYSTEM: INTERGRAPH ISPM, ISIR
COMPRESSION: UNDEFINED
STANDARD_VERSION: 1996 12
METADATA_DATE: 2001 8 23
DATA_FILE_SIZE: 41722776
BYTE_COUNT: 5427
