FILENAME: O4810708.SES.1160056.tif
QUADRANGLE_NAME: BLACK CALF RESERVOIR
QUADRANT: SE
WEST_LONGITUDE: -107 3 45.00000
EAST_LONGITUDE: -107 0 0.00000
NORTH_LATITUDE: 48 56 15.00000
SOUTH_LATITUDE: 48 52 30.00000
PRODUCTION_DATE: 2001 8 23
RASTER_ORDER: LEFT_RIGHT/TOP_BOTTOM
BAND_ORGANIZATION: SINGLE FILE
BAND_CONTENT: BLACK&WHITE
BAND_CONTENT: UNDEFINED
BAND_CONTENT: UNDEFINED
BITS_PER_PIXEL: 8
SAMPLES_AND_LINES: 5422 7684
HORIZONTAL_DATUM: NAD83
HORIZONTAL_COORDINATE_SYSTEM: UTM
COORDINATE_ZONE: 13
HORIZONTAL_UNITS: meters
HORIZONTAL_RESOLUTION: 1.00000
SECONDARY_HORIZONTAL_DATUM: NAD27
XY_ORIGIN: 348420.00000 5422867.00000
SECONDARY_XY_ORIGIN: 348460.19000 5422644.58700
NATION: US
STATE: MT
NW_QUAD_CORNER_XY: 348959.31300 5422558.16400
NE_QUAD_CORNER_XY: 353536.04600 5422435.77400
SE_QUAD_CORNERY_XY: 353353.21500 5415488.63100
SW_QUAD_CORNER_XY: 348770.76400 5415611.05700
SECONDARY_NW_QUAD_XY: 348954.46800 5422339.22200
SECONDARY_NE_QUAD_XY: 353531.34800 5422216.82700
SECONDARY_SE_QUAD_XY: 353348.51600 5415269.68600
SECONDARY_SW_QUAD_XY: 348765.91900 5415392.11700
RMSE_XY: 1.86000
IMAGE_SOURCE: BLACK AND WHITE FILM
SOURCE_IMAGE_ID: NAPP 9101-068
SOURCE_IMAGE_DATE: 1996 7 15
SOURCE_DEM_DATE: 1998 0 0
AGENCY: WESTERN MAPPING CENTER (WMC)
PRODUCER: WOOLPERT LLP
PRODUCTION_SYSTEM: INTERGRAPH ISPM, ISIR
COMPRESSION: UNDEFINED
STANDARD_VERSION: 1996 12
METADATA_DATE: 2001 8 23
DATA_FILE_SIZE: 41668070
BYTE_COUNT: 5422
