FILENAME: O4810709.SWS.1112677.tif
QUADRANGLE_NAME: MARTIN LAKE
QUADRANT: SW
WEST_LONGITUDE: -108 0 0.00000
EAST_LONGITUDE: -107 56 15.00000
NORTH_LATITUDE: 48 48 45.00000
SOUTH_LATITUDE: 48 45 0.00000
PRODUCTION_DATE: 2000 11 8
RASTER_ORDER: LEFT_RIGHT/TOP_BOTTOM
BAND_ORGANIZATION: SINGLE FILE
BAND_CONTENT: BLACK&WHITE
BAND_CONTENT: UNDEFINED
BAND_CONTENT: UNDEFINED
BITS_PER_PIXEL: 8
SAMPLES_AND_LINES: 5513 7731
HORIZONTAL_DATUM: NAD83
HORIZONTAL_COORDINATE_SYSTEM: UTM
COORDINATE_ZONE: 13
HORIZONTAL_UNITS: METERS
HORIZONTAL_RESOLUTION: 1.00000
SECONDARY_HORIZONTAL_DATUM: NAD27
XY_ORIGIN: 279139.00000 5411257.00000
SECONDARY_XY_ORIGIN: 279180.86700 5411035.30900
NATION: US
NATION: "SCIENCE
STATE: MT
NW_QUAD_CORNER_XY: 279763.22100 5410953.58800
NE_QUAD_CORNER_XY: 284350.95000 5410774.53600
SE_QUAD_CORNERY_XY: 284082.83000 5403828.16900
SW_QUAD_CORNER_XY: 279489.38900 5404007.27300
SECONDARY_NW_QUAD_XY: 279756.17300 5410734.72500
SECONDARY_NE_QUAD_XY: 284344.04900 5410555.66700
SECONDARY_SE_QUAD_XY: 284075.93000 5403609.30400
SECONDARY_SW_QUAD_XY: 279482.34100 5403788.41400
RMSE_XY: 0.80000
IMAGE_SOURCE: BLACK AND WHITE FILM
SOURCE_IMAGE_ID: NAPP 9157 229
SOURCE_IMAGE_DATE: 1997 09 05
SOURCE_DEM_DATE: 1975 00 00
AGENCY: WESTERN MAPPING CENTER (WMC)
PRODUCER: UNDEFINED
PRODUCTION_SYSTEM: GIS/MAGIC
COMPRESSION: UNDEFINED
STANDARD_VERSION: 1996 12
METADATA_DATE: 2000 11 30
DATA_FILE_SIZE: 42626516
BYTE_COUNT: 5513
