FILENAME: O4810709.NWS.1112675.tif
QUADRANGLE_NAME: MARTIN LAKE
QUADRANT: NW
WEST_LONGITUDE: -108 0 0.00000
EAST_LONGITUDE: -107 56 15.00000
NORTH_LATITUDE: 48 52 30.00000
SOUTH_LATITUDE: 48 48 45.00000
PRODUCTION_DATE: 2000 11 8
RASTER_ORDER: LEFT_RIGHT/TOP_BOTTOM
BAND_ORGANIZATION: SINGLE FILE
BAND_CONTENT: BLACK&WHITE
BAND_CONTENT: UNDEFINED
BAND_CONTENT: UNDEFINED
BITS_PER_PIXEL: 8
SAMPLES_AND_LINES: 5508 7732
HORIZONTAL_DATUM: NAD83
HORIZONTAL_COORDINATE_SYSTEM: UTM
COORDINATE_ZONE: 13
HORIZONTAL_UNITS: METERS
HORIZONTAL_RESOLUTION: 1.00000
SECONDARY_HORIZONTAL_DATUM: NAD27
XY_ORIGIN: 279413.00000 5418204.00000
SECONDARY_XY_ORIGIN: 279454.62300 5417982.01200
NATION: US
NATION: "SCIENCE
STATE: MT
NW_QUAD_CORNER_XY: 280037.31700 5417899.95900
NE_QUAD_CORNER_XY: 284619.32700 5417720.95900
SE_QUAD_CORNERY_XY: 284350.95000 5410774.53600
SW_QUAD_CORNER_XY: 279763.22100 5410953.58800
SECONDARY_NW_QUAD_XY: 280030.26900 5417681.09200
SECONDARY_NE_QUAD_XY: 284612.42600 5417502.08700
SECONDARY_SE_QUAD_XY: 284344.04900 5410555.66700
SECONDARY_SW_QUAD_XY: 279756.17300 5410734.72500
RMSE_XY: 0.60000
IMAGE_SOURCE: BLACK AND WHITE FILM
SOURCE_IMAGE_ID: NAPP 9157 227
SOURCE_IMAGE_DATE: 1997 09 05
SOURCE_DEM_DATE: 1975 00 00
AGENCY: WESTERN MAPPING CENTER (WMC)
PRODUCER: UNDEFINED
PRODUCTION_SYSTEM: GIS/MAGIC
COMPRESSION: UNDEFINED
STANDARD_VERSION: 1996 12
METADATA_DATE: 2000 11 30
DATA_FILE_SIZE: 42593364
BYTE_COUNT: 5508
