FILENAME: O4810710.SES.1112724.tif
QUADRANGLE_NAME: LORING
QUADRANT: SE
WEST_LONGITUDE: -107 48 45.00000
EAST_LONGITUDE: -107 45 0.00000
NORTH_LATITUDE: 48 48 45.00000
SOUTH_LATITUDE: 48 45 0.00000
PRODUCTION_DATE: 2000 11 8
RASTER_ORDER: LEFT_RIGHT/TOP_BOTTOM
BAND_ORGANIZATION: SINGLE FILE
BAND_CONTENT: BLACK&WHITE
BAND_CONTENT: UNDEFINED
BAND_CONTENT: UNDEFINED
BITS_PER_PIXEL: 8
SAMPLES_AND_LINES: 5496 7720
HORIZONTAL_DATUM: NAD83
HORIZONTAL_COORDINATE_SYSTEM: UTM
COORDINATE_ZONE: 13
HORIZONTAL_UNITS: METERS
HORIZONTAL_RESOLUTION: 1.00000
SECONDARY_HORIZONTAL_DATUM: NAD27
XY_ORIGIN: 292920.00000 5410731.00000
SECONDARY_XY_ORIGIN: 292961.54300 5410509.23000
NATION: US
NATION: "SCIENCE
STATE: MT
NW_QUAD_CORNER_XY: 293526.50900 5410427.75600
NE_QUAD_CORNER_XY: 298114.33800 5410260.02700
SE_QUAD_CORNERY_XY: 297863.35400 5403313.51200
SW_QUAD_CORNER_XY: 293269.81400 5403481.28900
SECONDARY_NW_QUAD_XY: 293519.90100 5410208.87600
SECONDARY_NE_QUAD_XY: 298107.87700 5410041.14100
SECONDARY_SE_QUAD_XY: 297856.89400 5403094.63000
SECONDARY_SW_QUAD_XY: 293263.20700 5403262.41300
RMSE_XY: 0.90000
IMAGE_SOURCE: BLACK AND WHITE FILM
SOURCE_IMAGE_ID: NAPP 9148 088
SOURCE_IMAGE_DATE: 1996 08 27
SOURCE_DEM_DATE: 1975 00 00
AGENCY: WESTERN MAPPING CENTER (WMC)
PRODUCER: UNDEFINED
PRODUCTION_SYSTEM: GIS/MAGIC
COMPRESSION: UNDEFINED
STANDARD_VERSION: 1996 12
METADATA_DATE: 2000 11 30
DATA_FILE_SIZE: 42434616
BYTE_COUNT: 5496
