FILENAME: O4810710.NWS.1112723.tif
QUADRANGLE_NAME: LORING
QUADRANT: NW
WEST_LONGITUDE: -107 52 30.00000
EAST_LONGITUDE: -107 48 45.00000
NORTH_LATITUDE: 48 52 30.00000
SOUTH_LATITUDE: 48 48 45.00000
PRODUCTION_DATE: 2000 11 8
RASTER_ORDER: LEFT_RIGHT/TOP_BOTTOM
BAND_ORGANIZATION: SINGLE FILE
BAND_CONTENT: BLACK&WHITE
BAND_CONTENT: UNDEFINED
BAND_CONTENT: UNDEFINED
BITS_PER_PIXEL: 8
SAMPLES_AND_LINES: 5496 7724
HORIZONTAL_DATUM: NAD83
HORIZONTAL_COORDINATE_SYSTEM: UTM
COORDINATE_ZONE: 13
HORIZONTAL_UNITS: METERS
HORIZONTAL_RESOLUTION: 1.00000
SECONDARY_HORIZONTAL_DATUM: NAD27
XY_ORIGIN: 288589.00000 5417849.00000
SECONDARY_XY_ORIGIN: 288630.39100 5417626.90600
NATION: US
NATION: "SCIENCE
STATE: MT
NW_QUAD_CORNER_XY: 289201.37200 5417545.73300
NE_QUAD_CORNER_XY: 293783.45100 5417374.28100
SE_QUAD_CORNERY_XY: 293526.50900 5410427.75600
SW_QUAD_CORNER_XY: 288938.71300 5410599.25900
SECONDARY_NW_QUAD_XY: 289194.61800 5417326.85500
SECONDARY_NE_QUAD_XY: 293776.84300 5417155.39700
SECONDARY_SE_QUAD_XY: 293519.90100 5410208.87600
SECONDARY_SW_QUAD_XY: 288931.95800 5410380.38400
RMSE_XY: 1.00000
IMAGE_SOURCE: BLACK AND WHITE FILM
SOURCE_IMAGE_ID: NAPP 9148 073
SOURCE_IMAGE_DATE: 1996 08 27
SOURCE_IMAGE_ID: NAPP 9157 213
SOURCE_IMAGE_DATE: 1997 09 05
SOURCE_IMAGE_ID: NAPP 9157 214
SOURCE_IMAGE_DATE: 1997 09 05
SOURCE_DEM_DATE: 1975 00 00
AGENCY: WESTERN MAPPING CENTER (WMC)
PRODUCER: UNDEFINED
PRODUCTION_SYSTEM: GIS/MAGIC
COMPRESSION: UNDEFINED
STANDARD_VERSION: 1996 12
METADATA_DATE: 2000 11 30
DATA_FILE_SIZE: 42456600
BYTE_COUNT: 5496
