FILENAME: O4810711.NWS.1116691.tif
QUADRANGLE_NAME: WHITEWATER WEST
QUADRANT: NW
WEST_LONGITUDE: -107 45 0.00000
EAST_LONGITUDE: -107 41 15.00000
NORTH_LATITUDE: 48 52 30.00000
SOUTH_LATITUDE: 48 48 45.00000
PRODUCTION_DATE: 2000 11 8
RASTER_ORDER: LEFT_RIGHT/TOP_BOTTOM
BAND_ORGANIZATION: SINGLE FILE
BAND_CONTENT: BLACK&WHITE
BAND_CONTENT: UNDEFINED
BAND_CONTENT: UNDEFINED
BITS_PER_PIXEL: 8
SAMPLES_AND_LINES: 5484 7716
HORIZONTAL_DATUM: NAD83
HORIZONTAL_COORDINATE_SYSTEM: UTM
COORDINATE_ZONE: 13
HORIZONTAL_UNITS: METERS
HORIZONTAL_RESOLUTION: 1.00000
SECONDARY_HORIZONTAL_DATUM: NAD27
XY_ORIGIN: 297765.00000 5417510.00000
SECONDARY_XY_ORIGIN: 297806.17200 5417287.79200
NATION: US
NATION: "SCIENCE
STATE: MT
NW_QUAD_CORNER_XY: 298365.56300 5417206.60100
NE_QUAD_CORNER_XY: 302947.70700 5417042.69400
SE_QUAD_CORNERY_XY: 302702.19800 5410096.07200
SW_QUAD_CORNER_XY: 298114.33800 5410260.02700
SECONDARY_NW_QUAD_XY: 298359.10200 5416987.71200
SECONDARY_NE_QUAD_XY: 302941.39300 5416823.80000
SECONDARY_SE_QUAD_XY: 302695.88500 5409877.18100
SECONDARY_SW_QUAD_XY: 298107.87700 5410041.14100
RMSE_XY: 0.80000
IMAGE_SOURCE: BLACK AND WHITE FILM
SOURCE_IMAGE_ID: NAPP 9148 139
SOURCE_IMAGE_DATE: 1996 08 27
SOURCE_DEM_DATE: 1974 00 00
AGENCY: WESTERN MAPPING CENTER (WMC)
PRODUCER: UNDEFINED
PRODUCTION_SYSTEM: GIS/MAGIC
COMPRESSION: UNDEFINED
STANDARD_VERSION: 1996 12
METADATA_DATE: 2000 11 30
DATA_FILE_SIZE: 42320028
BYTE_COUNT: 5484
