FILENAME: O4810713.NWS.1116591.tif
QUADRANGLE_NAME: SALSBERY RESERVOIR
QUADRANT: NW
WEST_LONGITUDE: -107 30 0.00000
EAST_LONGITUDE: -107 26 15.00000
NORTH_LATITUDE: 48 52 30.00000
SOUTH_LATITUDE: 48 48 45.00000
PRODUCTION_DATE: 2000 11 2
RASTER_ORDER: LEFT_RIGHT/TOP_BOTTOM
BAND_ORGANIZATION: SINGLE FILE
BAND_CONTENT: BLACK&WHITE
BAND_CONTENT: UNDEFINED
BAND_CONTENT: UNDEFINED
BITS_PER_PIXEL: 8
SAMPLES_AND_LINES: 5460 7702
HORIZONTAL_DATUM: NAD83
HORIZONTAL_COORDINATE_SYSTEM: UTM
COORDINATE_ZONE: 13
HORIZONTAL_UNITS: METERS
HORIZONTAL_RESOLUTION: 1.00000
SECONDARY_HORIZONTAL_DATUM: NAD27
XY_ORIGIN: 316118.00000 5416877.00000
SECONDARY_XY_ORIGIN: 316158.77500 5416655.27500
NATION: US
NATION: "SCIENCE
STATE: MT
NW_QUAD_CORNER_XY: 316694.32600 5416573.60600
NE_QUAD_CORNER_XY: 321276.59200 5416424.78700
SE_QUAD_CORNERY_XY: 321053.94500 5409477.98400
SW_QUAD_CORNER_XY: 316465.96400 5409626.84700
SECONDARY_NW_QUAD_XY: 316688.45300 5416354.69700
SECONDARY_NE_QUAD_XY: 321270.86600 5416205.87300
SECONDARY_SE_QUAD_XY: 321048.21900 5409259.07300
SECONDARY_SW_QUAD_XY: 316460.09100 5409407.94100
RMSE_XY: 1.30000
IMAGE_SOURCE: BLACK AND WHITE FILM
SOURCE_IMAGE_ID: NAPP 9148 173
SOURCE_IMAGE_DATE: 1996 08 27
SOURCE_DEM_DATE: 1974 00 00
AGENCY: WESTERN MAPPING CENTER (WMC)
PRODUCER: UNDEFINED
PRODUCTION_SYSTEM: GIS/MAGIC
COMPRESSION: UNDEFINED
STANDARD_VERSION: 1996 12
METADATA_DATE: 2000 11 30
DATA_FILE_SIZE: 42058380
BYTE_COUNT: 5460
