FILENAME: O4810715.NES.1116634.tif
QUADRANGLE_NAME: COULTER COULEE
QUADRANT: NE
WEST_LONGITUDE: -107 11 15.00000
EAST_LONGITUDE: -107 7 30.00000
NORTH_LATITUDE: 48 52 30.00000
SOUTH_LATITUDE: 48 48 45.00000
PRODUCTION_DATE: 2000 11 3
RASTER_ORDER: LEFT_RIGHT/TOP_BOTTOM
BAND_ORGANIZATION: SINGLE FILE
BAND_CONTENT: BLACK&WHITE
BAND_CONTENT: UNDEFINED
BAND_CONTENT: UNDEFINED
BITS_PER_PIXEL: 8
SAMPLES_AND_LINES: 5431 7683
HORIZONTAL_DATUM: NAD83
HORIZONTAL_COORDINATE_SYSTEM: UTM
COORDINATE_ZONE: 13
HORIZONTAL_UNITS: METERS
HORIZONTAL_RESOLUTION: 1.00000
SECONDARY_HORIZONTAL_DATUM: NAD27
XY_ORIGIN: 339059.00000 5416171.00000
SECONDARY_XY_ORIGIN: 339099.39800 5415948.91800
NATION: US
NATION: "SCIENCE
STATE: MT
NW_QUAD_CORNER_XY: 339605.93500 5415867.21900
NE_QUAD_CORNER_XY: 344188.33700 5415737.25300
SE_QUAD_CORNERY_XY: 343994.25700 5408790.24900
SW_QUAD_CORNER_XY: 339406.14300 5408920.25300
SECONDARY_NW_QUAD_XY: 339600.79600 5415648.28700
SECONDARY_NE_QUAD_XY: 344183.34500 5415518.31700
SECONDARY_SE_QUAD_XY: 343989.26500 5408571.31600
SECONDARY_SW_QUAD_XY: 339401.00400 5408701.32400
RMSE_XY: 1.20000
IMAGE_SOURCE: BLACK AND WHITE FILM
SOURCE_IMAGE_ID: NAPP 9101 182
SOURCE_IMAGE_DATE: 1996 07 15
SOURCE_DEM_DATE: 1974 00 00
AGENCY: WESTERN MAPPING CENTER (WMC)
PRODUCER: UNDEFINED
PRODUCTION_SYSTEM: GIS/MAGIC
COMPRESSION: UNDEFINED
STANDARD_VERSION: 1996 12
METADATA_DATE: 2000 11 30
DATA_FILE_SIZE: 41731804
BYTE_COUNT: 5431
