FILENAME: O4810717.SES.1112680.tif
QUADRANGLE_NAME: LOVEJOY
QUADRANT: SE
WEST_LONGITUDE: -107 56 15.00000
EAST_LONGITUDE: -107 52 30.00000
NORTH_LATITUDE: 48 41 15.00000
SOUTH_LATITUDE: 48 37 30.00000
PRODUCTION_DATE: 2000 11 7
RASTER_ORDER: LEFT_RIGHT/TOP_BOTTOM
BAND_ORGANIZATION: SINGLE FILE
BAND_CONTENT: BLACK&WHITE
BAND_CONTENT: UNDEFINED
BAND_CONTENT: UNDEFINED
BITS_PER_PIXEL: 8
SAMPLES_AND_LINES: 5519 7727
HORIZONTAL_DATUM: NAD83
HORIZONTAL_COORDINATE_SYSTEM: UTM
COORDINATE_ZONE: 13
HORIZONTAL_UNITS: METERS
HORIZONTAL_RESOLUTION: 1.00000
SECONDARY_HORIZONTAL_DATUM: NAD27
XY_ORIGIN: 283197.00000 5397185.00000
SECONDARY_XY_ORIGIN: 283239.19800 5396963.81100
NATION: US
NATION: "SCIENCE
STATE: MT
NW_QUAD_CORNER_XY: 283814.97000 5396881.85800
NE_QUAD_CORNER_XY: 288414.15200 5396706.48000
SE_QUAD_CORNERY_XY: 288152.25200 5389760.17600
SW_QUAD_CORNER_XY: 283547.36800 5389935.60300
SECONDARY_NW_QUAD_XY: 283808.06900 5396662.99800
SECONDARY_NE_QUAD_XY: 288407.39800 5396487.61500
SECONDARY_SE_QUAD_XY: 288145.49800 5389541.31700
SECONDARY_SW_QUAD_XY: 283540.46700 5389716.74900
RMSE_XY: 1.30000
IMAGE_SOURCE: BLACK AND WHITE FILM
SOURCE_IMAGE_ID: NAPP 9157 208
SOURCE_IMAGE_DATE: 1997 09 05
SOURCE_IMAGE_ID: NAPP 9157 234
SOURCE_IMAGE_DATE: 1997 09 05
SOURCE_DEM_DATE: 1993 00 00
AGENCY: WESTERN MAPPING CENTER (WMC)
PRODUCER: UNDEFINED
PRODUCTION_SYSTEM: GIS/MAGIC
COMPRESSION: UNDEFINED
STANDARD_VERSION: 1996 12
METADATA_DATE: 2000 11 30
DATA_FILE_SIZE: 42650832
BYTE_COUNT: 5519
