FILENAME: O4810718.SWS.1112729.tif
QUADRANGLE_NAME: AUSTIN COULEE
QUADRANT: SW
WEST_LONGITUDE: -107 52 30.00000
EAST_LONGITUDE: -107 48 45.00000
NORTH_LATITUDE: 48 41 15.00000
SOUTH_LATITUDE: 48 37 30.00000
PRODUCTION_DATE: 2000 11 7
RASTER_ORDER: LEFT_RIGHT/TOP_BOTTOM
BAND_ORGANIZATION: SINGLE FILE
BAND_CONTENT: BLACK&WHITE
BAND_CONTENT: UNDEFINED
BAND_CONTENT: UNDEFINED
BITS_PER_PIXEL: 8
SAMPLES_AND_LINES: 5513 7723
HORIZONTAL_DATUM: NAD83
HORIZONTAL_COORDINATE_SYSTEM: UTM
COORDINATE_ZONE: 13
HORIZONTAL_UNITS: METERS
HORIZONTAL_RESOLUTION: 1.00000
SECONDARY_HORIZONTAL_DATUM: NAD27
XY_ORIGIN: 287802.00000 5397009.00000
SECONDARY_XY_ORIGIN: 287844.10300 5396787.82600
NATION: US
NATION: "SCIENCE
STATE: MT
NW_QUAD_CORNER_XY: 288414.15200 5396706.48000
NE_QUAD_CORNER_XY: 293013.36700 5396534.87900
SE_QUAD_CORNERY_XY: 292757.16700 5389588.52700
SW_QUAD_CORNER_XY: 288152.25200 5389760.17600
SECONDARY_NW_QUAD_XY: 288407.39800 5396487.61500
SECONDARY_NE_QUAD_XY: 293006.76000 5396316.00800
SECONDARY_SE_QUAD_XY: 292750.56000 5389369.66200
SECONDARY_SW_QUAD_XY: 288145.49800 5389541.31700
RMSE_XY: 1.10000
IMAGE_SOURCE: BLACK AND WHITE FILM
SOURCE_IMAGE_ID: NAPP 9148 067
SOURCE_IMAGE_DATE: 1996 08 27
SOURCE_IMAGE_ID: NAPP 9148 093
SOURCE_IMAGE_DATE: 1996 08 27
SOURCE_DEM_DATE: 1993 00 00
AGENCY: WESTERN MAPPING CENTER (WMC)
PRODUCER: UNDEFINED
PRODUCTION_SYSTEM: GIS/MAGIC
COMPRESSION: UNDEFINED
STANDARD_VERSION: 1996 12
METADATA_DATE: 2000 11 30
DATA_FILE_SIZE: 42582412
BYTE_COUNT: 5513
