FILENAME: O4810718.NES.1112726.tif
QUADRANGLE_NAME: AUSTIN COULEE
QUADRANT: NE
WEST_LONGITUDE: -107 48 45.00000
EAST_LONGITUDE: -107 45 0.00000
NORTH_LATITUDE: 48 45 0.00000
SOUTH_LATITUDE: 48 41 15.00000
PRODUCTION_DATE: 2000 11 7
RASTER_ORDER: LEFT_RIGHT/TOP_BOTTOM
BAND_ORGANIZATION: SINGLE FILE
BAND_CONTENT: BLACK&WHITE
BAND_CONTENT: UNDEFINED
BAND_CONTENT: UNDEFINED
BITS_PER_PIXEL: 8
SAMPLES_AND_LINES: 5502 7719
HORIZONTAL_DATUM: NAD83
HORIZONTAL_COORDINATE_SYSTEM: UTM
COORDINATE_ZONE: 13
HORIZONTAL_UNITS: METERS
HORIZONTAL_RESOLUTION: 1.00000
SECONDARY_HORIZONTAL_DATUM: NAD27
XY_ORIGIN: 292663.00000 5403784.00000
SECONDARY_XY_ORIGIN: 292704.81700 5403562.61700
NATION: US
NATION: "SCIENCE
STATE: MT
NW_QUAD_CORNER_XY: 293269.81400 5403481.28900
NE_QUAD_CORNER_XY: 297863.35400 5403313.51200
SE_QUAD_CORNERY_XY: 297612.61300 5396367.05400
SW_QUAD_CORNER_XY: 293013.36700 5396534.87900
SECONDARY_NW_QUAD_XY: 293263.20700 5403262.41300
SECONDARY_NE_QUAD_XY: 297856.89400 5403094.63000
SECONDARY_SE_QUAD_XY: 297606.15300 5396148.17800
SECONDARY_SW_QUAD_XY: 293006.76000 5396316.00800
RMSE_XY: 1.10000
IMAGE_SOURCE: BLACK AND WHITE FILM
SOURCE_IMAGE_ID: NAPP 9148 090
SOURCE_IMAGE_DATE: 1996 08 27
SOURCE_DEM_DATE: 1993 00 00
AGENCY: WESTERN MAPPING CENTER (WMC)
PRODUCER: UNDEFINED
PRODUCTION_SYSTEM: GIS/MAGIC
COMPRESSION: UNDEFINED
STANDARD_VERSION: 1996 12
METADATA_DATE: 2000 11 30
DATA_FILE_SIZE: 42475440
BYTE_COUNT: 5502
