FILENAME: O4810719.NWS.1116671.tif
QUADRANGLE_NAME: AUSTIN LAKE
QUADRANT: NW
WEST_LONGITUDE: -107 45 0.00000
EAST_LONGITUDE: -107 41 15.00000
NORTH_LATITUDE: 48 45 0.00000
SOUTH_LATITUDE: 48 41 15.00000
PRODUCTION_DATE: 2000 11 7
RASTER_ORDER: LEFT_RIGHT/TOP_BOTTOM
BAND_ORGANIZATION: SINGLE FILE
BAND_CONTENT: BLACK&WHITE
BAND_CONTENT: UNDEFINED
BAND_CONTENT: UNDEFINED
BITS_PER_PIXEL: 8
SAMPLES_AND_LINES: 5495 7715
HORIZONTAL_DATUM: NAD83
HORIZONTAL_COORDINATE_SYSTEM: UTM
COORDINATE_ZONE: 13
HORIZONTAL_UNITS: METERS
HORIZONTAL_RESOLUTION: 1.00000
SECONDARY_HORIZONTAL_DATUM: NAD27
XY_ORIGIN: 297263.00000 5403616.00000
SECONDARY_XY_ORIGIN: 297304.72100 5403394.61200
NATION: US
NATION: "SCIENCE
STATE: MT
NW_QUAD_CORNER_XY: 297863.35400 5403313.51200
NE_QUAD_CORNER_XY: 302456.92600 5403149.50900
SE_QUAD_CORNERY_XY: 302211.89000 5396203.00600
SW_QUAD_CORNER_XY: 297612.61300 5396367.05400
SECONDARY_NW_QUAD_XY: 297856.89400 5403094.63000
SECONDARY_NE_QUAD_XY: 302450.61200 5402930.62300
SECONDARY_SE_QUAD_XY: 302205.57700 5395984.12400
SECONDARY_SW_QUAD_XY: 297606.15300 5396148.17800
RMSE_XY: 2.10000
IMAGE_SOURCE: BLACK AND WHITE FILM
SOURCE_IMAGE_ID: NAPP 9148 135
SOURCE_IMAGE_DATE: 1996 08 27
SOURCE_DEM_DATE: 1967 00 00
AGENCY: WESTERN MAPPING CENTER (WMC)
PRODUCER: UNDEFINED
PRODUCTION_SYSTEM: GIS/MAGIC
COMPRESSION: UNDEFINED
STANDARD_VERSION: 1996 12
METADATA_DATE: 2000 11 15
DATA_FILE_SIZE: 42399420
BYTE_COUNT: 5495
